BEGIN:VCALENDAR
VERSION:2.0
PRODID:-//wp-events-plugin.com//7.2.3.1//EN
TZID:America/Detroit
X-WR-TIMEZONE:America/Detroit
BEGIN:VEVENT
UID:71029@annarborwithkids.com
DTSTART;TZID=America/Detroit:20250629T160000
DTEND;TZID=America/Detroit:20250629T200000
DTSTAMP:20250425T223359Z
URL:https://annarborwithkids.com/events/top-of-the-park-kids-zone-2023-06-
 25/
SUMMARY:Top of the Park KidZone - Face Painting &amp\; Music: Colorful Even
 ts &amp\; Copper Tom
DESCRIPTION:\nEach night of Top of the Park\, a local organization hosts ac
 tivities in the KidZone Tent. \n\n\n\nIt’s So Long Sunday — Let’s Go
  Out with a Splash of Color and Song!\n\n\n\nA2SF is wrapping up the seaso
 n with a super fun Family Day you won’t want to miss.\n\n\n\nFrom 4:00
 –8:00PM\, get your face transformed into anything your imagination dream
 s up by the magic-makers at Colorful Events — Ann Arbor’s #1 face p
 ainting pros! From sparkly unicorns to roaring tigers\, they’ll turn yo
 u into walking art. \n\n\n\nAt 4:30PM\, KidZone comes alive with the one 
 and only Copper Tom — a real-life kids’ music superstar! He’s got 
 sing-a-longs\, silly puppets\, magic bubbles\, dance parties\, and so much
  more. If you’ve got little ones who love to groove\, giggle\, and play\
 , Copper Tom’s your guy.\n\n\n\nThe perfect way to say goodbye to the se
 ason — with&nbsp\;painted faces\, big smiles\, and music that’ll have 
 everyone dancing.&nbsp\;Bring your friends\, your family\, and your bigges
 t imagination!\n\n\n\n\n\n\n\n\n
CATEGORIES:Arbor Annie's
 Highlights,Crafts,Elementary,Free,Parents,Preschoolers,Toddler
LOCATION:Top of the Park\, 915 E. Washington St\, Ann Arbor\, Michigan\, 48
 109\, University of Michigan\, United States
GEO:42.2807892;-83.73815560000003
X-APPLE-STRUCTURED-LOCATION;VALUE=URI;X-ADDRESS=915 E. Washington St\, Ann 
 Arbor\, Michigan\, 48109\, University of Michigan\, United States;X-APPLE-
 RADIUS=100;X-TITLE=Top of the Park:geo:42.2807892,-83.73815560000003
END:VEVENT
BEGIN:VTIMEZONE
TZID:America/Detroit
X-LIC-LOCATION:America/Detroit
BEGIN:DAYLIGHT
DTSTART:20250309T030000
TZOFFSETFROM:-0500
TZOFFSETTO:-0400
TZNAME:EDT
END:DAYLIGHT
END:VTIMEZONE
END:VCALENDAR