BEGIN:VCALENDAR
VERSION:2.0
PRODID:-//wp-events-plugin.com//7.2.3.1//EN
TZID:America/Detroit
X-WR-TIMEZONE:America/Detroit
BEGIN:VEVENT
UID:71028@annarborwithkids.com
DTSTART;TZID=America/Detroit:20250620T170000
DTEND;TZID=America/Detroit:20250620T200000
DTSTAMP:20250425T224535Z
URL:https://annarborwithkids.com/events/top-of-the-park-kids-zone-2023-06-
 24/
SUMMARY:Top of the Park KidZone - Ultimate Airplane Challenge • Launch An
 n Arbor
DESCRIPTION:\nEach night of Top of the Park\, a local organization hosts ac
 tivities in the KidZone Tent. \n\n\n\nGet ready for a night of creativity 
 and fun with Launch Ann Arbor at the KidZone! Join them for an evening fil
 led with arts\, crafts\, and the ultimate paper airplane challenge! As the
  premier family entertainment venue in town\, Launch Ann Arbor brings the 
 excitement with over 22\,000 square feet of action-packed attractions.\n\n
 \n\nThis event gives kids the chance to get creative\, let their imaginati
 ons soar\, and enjoy all the fun and energy of Launch Ann Arbor’s signat
 ure activities in a special outdoor setting. Whether it’s designing colo
 rful crafts or perfecting that perfect paper airplane flight\, there’s s
 omething for every young adventurer to enjoy.\n\n\n\nBring the whole famil
 y for a memorable night in the KidZone—where fun\, creativity\, and laug
 hter take flight!\n\n\n\n\n\n\n\n\n
CATEGORIES:Arbor Annie's Highlights,Crafts,Elementary,Free,Middle
 Schoolers,Outdoor,Parents,Preschoolers,STEM,Storytime
LOCATION:Top of the Park\, 915 E. Washington St\, Ann Arbor\, Michigan\, 48
 109\, University of Michigan\, United States
GEO:42.2807892;-83.73815560000003
X-APPLE-STRUCTURED-LOCATION;VALUE=URI;X-ADDRESS=915 E. Washington St\, Ann 
 Arbor\, Michigan\, 48109\, University of Michigan\, United States;X-APPLE-
 RADIUS=100;X-TITLE=Top of the Park:geo:42.2807892,-83.73815560000003
END:VEVENT
BEGIN:VTIMEZONE
TZID:America/Detroit
X-LIC-LOCATION:America/Detroit
BEGIN:DAYLIGHT
DTSTART:20250309T030000
TZOFFSETFROM:-0500
TZOFFSETTO:-0400
TZNAME:EDT
END:DAYLIGHT
END:VTIMEZONE
END:VCALENDAR