BEGIN:VCALENDAR
VERSION:2.0
PRODID:-//wp-events-plugin.com//7.2.3.1//EN
TZID:America/Detroit
X-WR-TIMEZONE:America/Detroit
BEGIN:VEVENT
UID:71027@annarborwithkids.com
DTSTART;TZID=America/Detroit:20250627T170000
DTEND;TZID=America/Detroit:20250627T200000
DTSTAMP:20250425T224510Z
URL:https://annarborwithkids.com/events/top-of-the-park-kids-zone-2023-06-
 23/
SUMMARY:Top of the Park KidZone - Create Your Own Wind Chime • Clonlara
DESCRIPTION:\nEach night of Top of the Park\, a local organization hosts ac
 tivities in the KidZone Tent. The KidZone tent has historically been open 
 from 5-8p. \n\n\n\nJoin Clonlara School at the KidZone to create a one-of-
 a-kind windchime that your family can enjoy for years to come! Clonlara te
 achers and staff will guide this creative activity for kids. Each child ca
 n pick their favorite colors and styles from our collection of recycled be
 ads\, string them together in a unique pattern\, and add metal bells to th
 e bottom to complete the project! It’s a perfect opportunity for kids to
  explore their creativity while making something beautiful.  \n\n\n\nClon
 lara School’s mission is to transform education on a global scale throug
 h a highly personalized approach that fosters authenticity\, autonomy\, an
 d joy in the learning process.\n\n\n\n\n\n\n\n\n\n\n
CATEGORIES:Arbor Annie's Highlights,Crafts,Elementary,Free,Middle
 Schoolers,Parents,Preschoolers,Toddler
LOCATION:Top of the Park\, 915 E. Washington St\, Ann Arbor\, Michigan\, 48
 109\, University of Michigan\, United States
GEO:42.2807892;-83.73815560000003
X-APPLE-STRUCTURED-LOCATION;VALUE=URI;X-ADDRESS=915 E. Washington St\, Ann 
 Arbor\, Michigan\, 48109\, University of Michigan\, United States;X-APPLE-
 RADIUS=100;X-TITLE=Top of the Park:geo:42.2807892,-83.73815560000003
END:VEVENT
BEGIN:VTIMEZONE
TZID:America/Detroit
X-LIC-LOCATION:America/Detroit
BEGIN:DAYLIGHT
DTSTART:20250309T030000
TZOFFSETFROM:-0500
TZOFFSETTO:-0400
TZNAME:EDT
END:DAYLIGHT
END:VTIMEZONE
END:VCALENDAR