BEGIN:VCALENDAR
VERSION:2.0
PRODID:-//wp-events-plugin.com//7.2.3.1//EN
TZID:America/Detroit
X-WR-TIMEZONE:America/Detroit
BEGIN:VEVENT
UID:71026@annarborwithkids.com
DTSTART;TZID=America/Detroit:20250626T170000
DTEND;TZID=America/Detroit:20250626T200000
DTSTAMP:20250425T224554Z
URL:https://annarborwithkids.com/events/top-of-the-park-kids-zone-2023-06-
 22/
SUMMARY:Top of the Park KidZone - My Future Fund - WISD
DESCRIPTION:\nEach night of Top of the Park\, a local organization hosts ac
 tivities in the KidZone Tent. \n\n\n\nBlast off into your future at the Ki
 dZone with the My Future Fund with a fun\, hands-on event where kids can
  dream big and explore all kinds of cool careers! This county-wide childre
 n’s savings account program helps eligible Washtenaw County students get
  free money and support for college and career training.\n\n\n\nAt this ex
 citing event\, kids will visit interactive career stations\, chat with rea
 l-life professionals\, and get a close-up look at the awesome tools they u
 se every day—from creative tech to hands-on trades! With help from local
  Career Technical Education (CTE) teachers and community members\, young d
 reamers will explore the paths that can take them from today’s curiosity
  to tomorrow’s careers.\n\n\n\nCome play\, learn\, and dream big with My
  Future Fund in the KidZone!\n\n\n\n\n\nEditors Note: As a parent who is c
 urrently paying for college\, I definitely recommend signing up for this p
 rogram and making your own contributions if you are able.\n\n\n\n\n\n\n\n\
 n
CATEGORIES:Arbor Annie's Highlights,Education,Elementary,Free,Middle
 Schoolers,Outdoor,Parents,Preschoolers,Toddler
LOCATION:Top of the Park\, 915 E. Washington St\, Ann Arbor\, Michigan\, 48
 109\, University of Michigan\, United States
GEO:42.2807892;-83.73815560000003
X-APPLE-STRUCTURED-LOCATION;VALUE=URI;X-ADDRESS=915 E. Washington St\, Ann 
 Arbor\, Michigan\, 48109\, University of Michigan\, United States;X-APPLE-
 RADIUS=100;X-TITLE=Top of the Park:geo:42.2807892,-83.73815560000003
END:VEVENT
BEGIN:VTIMEZONE
TZID:America/Detroit
X-LIC-LOCATION:America/Detroit
BEGIN:DAYLIGHT
DTSTART:20250309T030000
TZOFFSETFROM:-0500
TZOFFSETTO:-0400
TZNAME:EDT
END:DAYLIGHT
END:VTIMEZONE
END:VCALENDAR