BEGIN:VCALENDAR
VERSION:2.0
PRODID:-//wp-events-plugin.com//7.2.3.1//EN
TZID:America/Detroit
X-WR-TIMEZONE:America/Detroit
BEGIN:VEVENT
UID:71024@annarborwithkids.com
DTSTART;TZID=America/Detroit:20250619T170000
DTEND;TZID=America/Detroit:20250619T200000
DTSTAMP:20250425T224528Z
URL:https://annarborwithkids.com/events/top-of-the-park-kids-zone-2023-06-
 20/
SUMMARY:Top of the Park KidZone - Plant\, Grow\, and Play with Farmer T.C. 
 • Willow Run Acres
DESCRIPTION:\nEach night of Top of the Park\, a local organization hosts ac
 tivities in the KidZone Tent. \n\n\n\nJoin T.C. Collins\, better known as 
 Farmer T.C. from Willow Run Acres\, for an exciting evening of gardening 
 fun designed just for your kiddo! Farmer T.C. started his farming journey 
 at just 2-3 years old\, learning the traditions of gardening from his grea
 t-great-grandparents. \n\n\n\nAs a descendant of former slaves\, these fa
 rming traditions have been passed down through generations\, and now he’
 s sharing this knowledge with the next generation. Farmer T.C.’s Souther
 n roots have inspired his passion for organic living and preserving nature
 ’s gifts long before it became popular.&nbsp\;\n\n\n\nIn this hands-on\,
  interactive event\, kids will gain a deeper appreciation for green spaces
  while learning essential gardening skills.\n\n\n\n\n\n\n\n\n\n\n
CATEGORIES:Arbor Annie's Highlights,Elementary,Free,Gardening,Middle
 Schoolers,Outdoor,Parents,Preschoolers,Toddler
LOCATION:Top of the Park\, 915 E. Washington St\, Ann Arbor\, Michigan\, 48
 109\, University of Michigan\, United States
GEO:42.2807892;-83.73815560000003
X-APPLE-STRUCTURED-LOCATION;VALUE=URI;X-ADDRESS=915 E. Washington St\, Ann 
 Arbor\, Michigan\, 48109\, University of Michigan\, United States;X-APPLE-
 RADIUS=100;X-TITLE=Top of the Park:geo:42.2807892,-83.73815560000003
END:VEVENT
BEGIN:VTIMEZONE
TZID:America/Detroit
X-LIC-LOCATION:America/Detroit
BEGIN:DAYLIGHT
DTSTART:20250309T030000
TZOFFSETFROM:-0500
TZOFFSETTO:-0400
TZNAME:EDT
END:DAYLIGHT
END:VTIMEZONE
END:VCALENDAR