BEGIN:VCALENDAR
VERSION:2.0
PRODID:-//wp-events-plugin.com//7.2.3.1//EN
TZID:America/Detroit
X-WR-TIMEZONE:America/Detroit
BEGIN:VEVENT
UID:71023@annarborwithkids.com
DTSTART;TZID=America/Detroit:20250613T170000
DTEND;TZID=America/Detroit:20250613T200000
DTSTAMP:20250425T221439Z
URL:https://annarborwithkids.com/events/top-of-the-park-kids-zone-2023-06-
 18/
SUMMARY:Top of the Park KidZone:  STEM &amp\; Nature Discoveries with LSNC 
 &amp\; AAHOM
DESCRIPTION:\nEach night of Top of the Park\, a local organization hosts ac
 tivities in the KidZone Tent. \n\n\n\nDiscover the wonders of STEM and the
  natural world through a variety of activities from the Leslie Science and
  Nature Center\, and the Ann Arbor Hands-On Museum!\n\n\n\nMeet some creat
 ures great and small that call the Leslie Nature Center home. Then\, desig
 n\, build\, and test flying devices\, gather enough particles to form a st
 ar\, and more. There are no limits as to what you can learn or explore whe
 n you visit our station!\n\n\n\n\n\n\n\n\n\n\n
CATEGORIES:Animals,Arbor Annie's Highlights,Elementary,Free,Middle
 Schoolers,Outdoor,Parents,Preschoolers,STEM,Toddler
LOCATION:Top of the Park\, 915 E. Washington St\, Ann Arbor\, Michigan\, 48
 109\, University of Michigan\, United States
GEO:42.2807892;-83.73815560000003
X-APPLE-STRUCTURED-LOCATION;VALUE=URI;X-ADDRESS=915 E. Washington St\, Ann 
 Arbor\, Michigan\, 48109\, University of Michigan\, United States;X-APPLE-
 RADIUS=100;X-TITLE=Top of the Park:geo:42.2807892,-83.73815560000003
END:VEVENT
BEGIN:VTIMEZONE
TZID:America/Detroit
X-LIC-LOCATION:America/Detroit
BEGIN:DAYLIGHT
DTSTART:20250309T030000
TZOFFSETFROM:-0500
TZOFFSETTO:-0400
TZNAME:EDT
END:DAYLIGHT
END:VTIMEZONE
END:VCALENDAR