BEGIN:VCALENDAR
VERSION:2.0
PRODID:-//wp-events-plugin.com//7.2.3.1//EN
TZID:America/Detroit
X-WR-TIMEZONE:America/Detroit
BEGIN:VEVENT
UID:71022@annarborwithkids.com
DTSTART;TZID=America/Detroit:20250624T170000
DTEND;TZID=America/Detroit:20250624T200000
DTSTAMP:20250425T224135Z
URL:https://annarborwithkids.com/events/top-of-the-park-kids-zone-2023-06-
 17/
SUMMARY:Top of the Park KidZone: Crafts &amp\; Fun: Annie's Children's Cent
 er
DESCRIPTION:\nEach night of Top of the Park\, a local organization hosts ac
 tivities in the KidZone Tent. \n\n\n\nGet ready for big smiles and endless
  fun as Annie’s Children’s Center returns to the KidZone with exciting
 \, hands-on activities designed just for kids!&nbsp\;\n\n\n\nFrom creative
  play to engaging games\, little ones will be entertained\, inspired\, and
  encouraged to explore. Known for their warm\, welcoming approach and comm
 itment to early childhood development\, Annie’s brings the joy of learni
 ng to life in the most playful way.&nbsp\;\n\n\n\nDon’t miss this experi
 ence for kiddos looking to laugh\, learn\, and play all evening long!\n\n\
 n\n\n\n\n
CATEGORIES:Arbor Annie's Highlights,Crafts,Elementary,Free,Middle
 Schoolers,Parents,Preschoolers,Toddler
LOCATION:Top of the Park\, 915 E. Washington St\, Ann Arbor\, Michigan\, 48
 109\, University of Michigan\, United States
GEO:42.2807892;-83.73815560000003
X-APPLE-STRUCTURED-LOCATION;VALUE=URI;X-ADDRESS=915 E. Washington St\, Ann 
 Arbor\, Michigan\, 48109\, University of Michigan\, United States;X-APPLE-
 RADIUS=100;X-TITLE=Top of the Park:geo:42.2807892,-83.73815560000003
END:VEVENT
BEGIN:VTIMEZONE
TZID:America/Detroit
X-LIC-LOCATION:America/Detroit
BEGIN:DAYLIGHT
DTSTART:20250309T030000
TZOFFSETFROM:-0500
TZOFFSETTO:-0400
TZNAME:EDT
END:DAYLIGHT
END:VTIMEZONE
END:VCALENDAR