BEGIN:VCALENDAR
VERSION:2.0
PRODID:-//wp-events-plugin.com//7.2.3.1//EN
TZID:America/Detroit
X-WR-TIMEZONE:America/Detroit
BEGIN:VEVENT
UID:71021@annarborwithkids.com
DTSTART;TZID=America/Detroit:20250625T170000
DTEND;TZID=America/Detroit:20250625T200000
DTSTAMP:20250613T023638Z
URL:https://annarborwithkids.com/events/top-of-the-park-kids-zone-2023-06-
 16/
SUMMARY:Top of the Park KidZone: Kidokinetics
DESCRIPTION:\nEach night of Top of the Park\, a local organization hosts ac
 tivities in the KidZone Tent. \n\n\n\nKidokinetics offers the ultimate ath
 letic enrichment program\, introducing kids to a wide range of sports in a
 n interactive\, non-competitive environment.&nbsp\; Certified coaches brin
 g 20+ sports and endless activities to childcare centers\, schools and cam
 ps\, providing a foundational sports and fitness experience for kids ages 
 1-12. Each class includes age-appropriate programming with high-quality eq
 uipment\, leaving young athletes eagerly anticipating the next class!\n\n\
 n\nJoin the Kidokinetics Team in the KidsZone to participate in activity s
 tations designed to challenge and build hand-eye coordination\, target ski
 lls\, and overall athletic ability.&nbsp\; Coaches will host friendly comp
 etitions throughout the afternoon and evening\, providing a sample of the 
 Kidokinetics experience. All kids will get to use a variety of sports equi
 pment\, get their wiggles out and HAVE FUN!\n\n\n\n\n\n\n\n\n\n\n
CATEGORIES:Arbor Annie's Highlights,Elementary,Free,Middle
 Schoolers,Outdoor,Parents,Preschoolers,Sport,Toddler
LOCATION:Top of the Park\, 915 E. Washington St\, Ann Arbor\, Michigan\, 48
 109\, University of Michigan\, United States
GEO:42.2807892;-83.73815560000003
X-APPLE-STRUCTURED-LOCATION;VALUE=URI;X-ADDRESS=915 E. Washington St\, Ann 
 Arbor\, Michigan\, 48109\, University of Michigan\, United States;X-APPLE-
 RADIUS=100;X-TITLE=Top of the Park:geo:42.2807892,-83.73815560000003
END:VEVENT
BEGIN:VTIMEZONE
TZID:America/Detroit
X-LIC-LOCATION:America/Detroit
BEGIN:DAYLIGHT
DTSTART:20250309T030000
TZOFFSETFROM:-0500
TZOFFSETTO:-0400
TZNAME:EDT
END:DAYLIGHT
END:VTIMEZONE
END:VCALENDAR