BEGIN:VCALENDAR
VERSION:2.0
PRODID:-//wp-events-plugin.com//7.2.3.1//EN
TZID:America/Detroit
X-WR-TIMEZONE:America/Detroit
BEGIN:VEVENT
UID:71020@annarborwithkids.com
DTSTART;TZID=America/Detroit:20250622T160000
DTEND;TZID=America/Detroit:20250622T200000
DTSTAMP:20250425T224542Z
URL:https://annarborwithkids.com/events/top-of-the-park-kids-zone-2023-06-
 15/
SUMMARY:Top of the Park KidZone - Science Night at KidZone+ • Washtenaw C
 ommunity College
DESCRIPTION:\nEach night of Top of the Park\, a local organization hosts ac
 tivities in the KidZone Tent. \n\n\n\nGet ready for a night of discovery\,
  creativity\, and hands-on fun as Washtenaw Community College presents Sci
 ence Night at KidZone+—an exciting evening designed especially for curio
 us young minds ages 2–10!\n\n\n\nLittle learners will love coloring WCC-
 themed pages featuring Alpha the WCC mascot and fun\, science-inspired des
 igns—crayons and markers included! Kids can also get in on the action wi
 th sports-themed gaming on a Nintendo Switch\, offering a fun\, interactiv
 e break between activities.\n\n\n\nThe excitement continues with Mad Scien
 ce Detroit\, bringing two high-energy\, family-friendly science shows that
  will wow audiences of all ages. Showtimes are at 5:00 PM and 6:30 PM\, so
  be sure to catch the magic in action!\n\n\n\nAnd don’t miss the Science
  Fun Stations\, where young explorers can dive into hands-on experiments a
 nd interactive exhibits designed to spark curiosity and wonder.\n\n\n\nWhe
 ther your child loves art\, gaming\, or science\, Science Night at KidZone
 + has something for everyone. Join them for an evening of imagination\, in
 novation\, and unforgettable fun!\n\n\n\nThere will be more Science Fun fo
 r all ages in the Annex.\n\n\n\n\n\n\n\n\n
CATEGORIES:Arbor Annie's
 Highlights,Crafts,Elementary,Free,Outdoor,Parents,Preschoolers,STEM,Toddle
 r
LOCATION:Top of the Park\, 915 E. Washington St\, Ann Arbor\, Michigan\, 48
 109\, University of Michigan\, United States
GEO:42.2807892;-83.73815560000003
X-APPLE-STRUCTURED-LOCATION;VALUE=URI;X-ADDRESS=915 E. Washington St\, Ann 
 Arbor\, Michigan\, 48109\, University of Michigan\, United States;X-APPLE-
 RADIUS=100;X-TITLE=Top of the Park:geo:42.2807892,-83.73815560000003
END:VEVENT
BEGIN:VTIMEZONE
TZID:America/Detroit
X-LIC-LOCATION:America/Detroit
BEGIN:DAYLIGHT
DTSTART:20250309T030000
TZOFFSETFROM:-0500
TZOFFSETTO:-0400
TZNAME:EDT
END:DAYLIGHT
END:VTIMEZONE
END:VCALENDAR