BEGIN:VCALENDAR
VERSION:2.0
PRODID:-//wp-events-plugin.com//7.2.3.1//EN
TZID:America/Detroit
X-WR-TIMEZONE:America/Detroit
BEGIN:VEVENT
UID:71019@annarborwithkids.com
DTSTART;TZID=America/Detroit:20250618T170000
DTEND;TZID=America/Detroit:20250618T200000
DTSTAMP:20250618T215802Z
URL:https://annarborwithkids.com/events/top-of-the-park-kids-zone-2023-06-
 14/
SUMMARY:CANCELED - Top of the Park KidZone: Zero-Waste Zone- UM Campus of S
 ustainability
DESCRIPTION:\nTop of the Park Canceled on 6/18\nDue to tonight's weather fo
 recast\, all activities have been canceled.\n\n\n\n\nEach night of Top of 
 the Park\, a local organization hosts activities in the KidZone Tent. \n\n
 \n\nJoin University of Michigan’s Office of Campus Sustainability for fu
 n activities that will teach you about recycling and waste prevention! The
 y’ll have fun coloring sheets (printed on recycled paper!) and activitie
 s including “where to throw” cornhole. \n\n\n\nYou can learn more abou
 t U-M’s operational sustainability initiatives and their work at&nbsp\;o
 cs.umich.edu. You can also check out&nbsp\;planetblue.umich.edu&nbsp\;for 
 a broader picture of what U-M is doing around sustainability. The Office o
 f Campus Sustainability (OCS) serves as a focal point for sustainable camp
 us operations. They lead\, facilitate and support operational programs and
  initiatives at the Ann Arbor campus towards sustainability goals around g
 reenhouse gas reduction\, waste prevention\, protecting our environment\, 
 and more!\n\n\n\n\n\n\n\n\n\n\n
CATEGORIES:Arbor Annie's
 Highlights,Crafts,Elementary,Environmental,Free,Middle
 Schoolers,Parents,Preschoolers,Storytime,Toddler
LOCATION:Top of the Park\, 915 E. Washington St\, Ann Arbor\, Michigan\, 48
 109\, University of Michigan\, United States
GEO:42.2807892;-83.73815560000003
X-APPLE-STRUCTURED-LOCATION;VALUE=URI;X-ADDRESS=915 E. Washington St\, Ann 
 Arbor\, Michigan\, 48109\, University of Michigan\, United States;X-APPLE-
 RADIUS=100;X-TITLE=Top of the Park:geo:42.2807892,-83.73815560000003
END:VEVENT
BEGIN:VTIMEZONE
TZID:America/Detroit
X-LIC-LOCATION:America/Detroit
BEGIN:DAYLIGHT
DTSTART:20250309T030000
TZOFFSETFROM:-0500
TZOFFSETTO:-0400
TZNAME:EDT
END:DAYLIGHT
END:VTIMEZONE
END:VCALENDAR