BEGIN:VCALENDAR
VERSION:2.0
PRODID:-//wp-events-plugin.com//7.2.3.1//EN
TZID:America/Detroit
X-WR-TIMEZONE:America/Detroit
BEGIN:VEVENT
UID:71018@annarborwithkids.com
DTSTART;TZID=America/Detroit:20250621T170000
DTEND;TZID=America/Detroit:20250621T200000
DTSTAMP:20250425T222606Z
URL:https://annarborwithkids.com/events/top-of-the-park-kids-zone-2023-06-
 13/
SUMMARY:Top of the Park KidZone: Experience the Love - Meet Certified Thera
 py Dogs
DESCRIPTION:\nEach night of Top of the Park\, a local organization hosts ac
 tivities in the KidZone Tent. \n\n\n\nEnjoy a heartwarming opportunity to 
 engage with certified therapy dogs. \n\n\n\nTherapaws of Michigan\, a Wash
 tenaw county non-profit established in 1988\, will graciously offer the op
 portunity to meet several of their gentle therapy dogs. Discover firsthand
  the joy and comfort these furry companions bring as they spread smiles in
  places like hospitals\, schools\, libraries\, and extended care facilitie
 s. Therapaws’ dedicated handlers will be delighted to share insights abo
 ut their furry friends\, their program\, and even provide guidance on trai
 ning your own dog for therapy work.&nbsp\;\n\n\n\nPlease be aware that for
  everyone’s safety and comfort\, they kindly ask that no other dogs or a
 nimals accompany you to this event.\n\n\n\n\n\n\n\n\n
CATEGORIES:Animals,Arbor Annie's Highlights,Elementary,Free,Middle
 Schoolers,Outdoor,Parents,Preschoolers,Toddler
LOCATION:Top of the Park\, 915 E. Washington St\, Ann Arbor\, Michigan\, 48
 109\, University of Michigan\, United States
GEO:42.2807892;-83.73815560000003
X-APPLE-STRUCTURED-LOCATION;VALUE=URI;X-ADDRESS=915 E. Washington St\, Ann 
 Arbor\, Michigan\, 48109\, University of Michigan\, United States;X-APPLE-
 RADIUS=100;X-TITLE=Top of the Park:geo:42.2807892,-83.73815560000003
END:VEVENT
BEGIN:VTIMEZONE
TZID:America/Detroit
X-LIC-LOCATION:America/Detroit
BEGIN:DAYLIGHT
DTSTART:20250309T030000
TZOFFSETFROM:-0500
TZOFFSETTO:-0400
TZNAME:EDT
END:DAYLIGHT
END:VTIMEZONE
END:VCALENDAR