BEGIN:VCALENDAR
VERSION:2.0
PRODID:-//wp-events-plugin.com//7.2.3.1//EN
TZID:America/Detroit
X-WR-TIMEZONE:America/Detroit
BEGIN:VEVENT
UID:71015@annarborwithkids.com
DTSTART;TZID=America/Detroit:20250628T170000
DTEND;TZID=America/Detroit:20250628T200000
DTSTAMP:20250425T224409Z
URL:https://annarborwithkids.com/events/top-of-the-park-kids-zone-2023-06-
 09/
SUMMARY:Top of the Park KidZone - Fishing Challenge • Big Blue Swim Schoo
 l
DESCRIPTION:\nEach night of Top of the Park\, a local organization hosts ac
 tivities in the KidZone Tent. The KidZone tent has historically been open 
 from 5-8p.\n\n\n\nJoin the All Ages Big Blue FISHING CHALLENGE! Toddlers 
 to Teens\, Parents to Grandparents: Test your steady hand skills to “hoo
 k the ring” and catch cute little ducks and whales in our water filled k
 iddy pools. Beginners use a shorter string while the most advanced can use
  the longest string on a telescoping 8-foot pole while closing one eye and
  standing on one leg! EVERYONE IS A WINNER and receives a Big Blue Goody B
 ag! \n\n\n\nBig Blue is proud to be Ann Arbor’s locally owned and operat
 ed Swim School. bigblue.link/annarbor\n\n\n\n\n\n\n\n\n\n\n
CATEGORIES:Arbor Annie's Highlights,Crafts,Elementary,Free,Games,Middle
 Schoolers,Outdoor,Parents,Preschoolers,Toddler
LOCATION:Top of the Park\, 915 E. Washington St\, Ann Arbor\, Michigan\, 48
 109\, University of Michigan\, United States
GEO:42.2807892;-83.73815560000003
X-APPLE-STRUCTURED-LOCATION;VALUE=URI;X-ADDRESS=915 E. Washington St\, Ann 
 Arbor\, Michigan\, 48109\, University of Michigan\, United States;X-APPLE-
 RADIUS=100;X-TITLE=Top of the Park:geo:42.2807892,-83.73815560000003
END:VEVENT
BEGIN:VTIMEZONE
TZID:America/Detroit
X-LIC-LOCATION:America/Detroit
BEGIN:DAYLIGHT
DTSTART:20250309T030000
TZOFFSETFROM:-0500
TZOFFSETTO:-0400
TZNAME:EDT
END:DAYLIGHT
END:VTIMEZONE
END:VCALENDAR