BEGIN:VCALENDAR
VERSION:2.0
PRODID:-//wp-events-plugin.com//7.2.3.1//EN
TZID:America/Detroit
X-WR-TIMEZONE:America/Detroit
BEGIN:VEVENT
UID:93558@annarborwithkids.com
DTSTART;TZID=America/Detroit:20260626T190000
DTEND;TZID=America/Detroit:20260626T190000
DTSTAMP:20260423T190853Z
URL:https://annarborwithkids.com/events/top-of-the-park-annex-spoken-word-
 night-hosted-by-madeline-october/
SUMMARY:Top of the Park Annex - Spoken Word Night Hosted by Madeline Octobe
 r
DESCRIPTION:\nThe Ann Arbor Summer Festival hosts events in the Annex most 
 nights during Top of the Park. \n\n\n\nJoin local performers for an intima
 te and gripping night of poetry. A true variety show\, this set features s
 lam-champions\, distinguished literary artists\, and zine fever-dream virt
 uosi. Hosted by Madeline October\, with local and regional poets.\n\n\n\nP
 lease note that this spoken word show may contain mature content and is re
 commended for audiences 13+.\n\n\n\n\n\nOther Annex activities:\n\n\n\n[ev
 ents_list tag="top annex" scope="2026-06-01\,2026-07-30"][/events_list]\n\
 n\n\n\n
CATEGORIES:Free,High Schoolers,Middle Schoolers,Outdoor,Parents,Theater
LOCATION:Top of the Park\, 915 E. Washington St\, Ann Arbor\, Michigan\, 48
 109\, University of Michigan\, United States
GEO:42.2807892;-83.73815560000003
X-APPLE-STRUCTURED-LOCATION;VALUE=URI;X-ADDRESS=915 E. Washington St\, Ann 
 Arbor\, Michigan\, 48109\, University of Michigan\, United States;X-APPLE-
 RADIUS=100;X-TITLE=Top of the Park:geo:42.2807892,-83.73815560000003
END:VEVENT
BEGIN:VTIMEZONE
TZID:America/Detroit
X-LIC-LOCATION:America/Detroit
BEGIN:DAYLIGHT
DTSTART:20260308T030000
TZOFFSETFROM:-0500
TZOFFSETTO:-0400
TZNAME:EDT
END:DAYLIGHT
END:VTIMEZONE
END:VCALENDAR