BEGIN:VCALENDAR
VERSION:2.0
PRODID:-//wp-events-plugin.com//7.2.3.1//EN
TZID:America/Detroit
X-WR-TIMEZONE:America/Detroit
BEGIN:VEVENT
UID:90576@annarborwithkids.com
DTSTART;TZID=America/Detroit:20251124T110000
DTEND;TZID=America/Detroit:20251124T120000
DTSTAMP:20251117T204231Z
URL:https://annarborwithkids.com/events/toddler-time-turkey-tales/
SUMMARY:Toddler Time: Turkey Tales
DESCRIPTION:\nJoin Ann Arbor Parks to celebrate the harvest season by learn
 ing about turkeys\, a native bird\, and create your own turkey out of leav
 es to take home.\n\n\n\nThe event will include a brief time outside to col
 lect natural materials.\n\n\n\nThe event is for children ages 3-6 years ol
 d with an adult. Younger siblings are welcome.\n\n\n\nThe event is free\, 
 but pre-registration is required.\n\n\n\n\n\n\n\n\n
CATEGORIES:Advance Registration,Arbor Annie's
 Highlights,Crafts,Elementary,Free,Nature,Preschoolers,Registration
 Required,Storytime,Thanksgiving
LOCATION:Ann Arbor Senior Center\, 1320 Baldwin Avenue\, Ann Arbor\, Michig
 an\, 48104\, South\, United States
GEO:42.2650621;-83.7265878
X-APPLE-STRUCTURED-LOCATION;VALUE=URI;X-ADDRESS=1320 Baldwin Avenue\, Ann A
 rbor\, Michigan\, 48104\, South\, United States;X-APPLE-RADIUS=100;X-TITLE
 =Ann Arbor Senior Center:geo:42.2650621,-83.7265878
END:VEVENT
BEGIN:VTIMEZONE
TZID:America/Detroit
X-LIC-LOCATION:America/Detroit
BEGIN:STANDARD
DTSTART:20251102T010000
TZOFFSETFROM:-0400
TZOFFSETTO:-0500
TZNAME:EST
END:STANDARD
END:VTIMEZONE
END:VCALENDAR