BEGIN:VCALENDAR
VERSION:2.0
PRODID:-//wp-events-plugin.com//7.2.3.1//EN
TZID:America/Detroit
X-WR-TIMEZONE:America/Detroit
BEGIN:VEVENT
UID:80876@annarborwithkids.com
DTSTART;TZID=America/Detroit:20251025T090000
DTEND;TZID=America/Detroit:20251025T110000
DTSTAMP:20251024T010402Z
URL:https://annarborwithkids.com/events/toddler-time-boo-bash-2/
SUMMARY:Toddler Time Boo Bash
DESCRIPTION:\nJoin Launch Trampoline Park on Saturday\, October 25th 9-11a 
 for their Toddler Time Boo Bash!\n\n\n\n\n2hrs jump for one child under th
 e age of 5 + an accompanying adult/guardian.\n\n\n\nCostume contest\n\n\n\
 nPictures w/Joey\, their awesome Mascot\n\n\n\n\nPlease note: \n\n\n\n\nVa
 lid waiver required for ALL attendees (including non-participants)\n\n\n\n
 Reusable Launch Brand Grip Socks required for all participants ($3/pair fo
 r purchase)\n\n\n\nEvent is for children 5 and under and parents/guardians
  only\n\n\n\nNo outside food or drink allowed. There will be food/drink sp
 ecials day of event\n\n\n\n\n\n
CATEGORIES:Advance Registration,Arbor Annie's Highlights,Halloween,Indoor
 Activities,Optional Registration,Preschoolers,Toddler
LOCATION:Launch Trampoline\, 800 W Eisenhower Parkway\, Ann Arbor\, Michiga
 n\, 48103\, United States
GEO:42.246181;-83.756183
X-APPLE-STRUCTURED-LOCATION;VALUE=URI;X-ADDRESS=800 W Eisenhower Parkway\, 
 Ann Arbor\, Michigan\, 48103\, United States;X-APPLE-RADIUS=100;X-TITLE=La
 unch Trampoline:geo:42.246181,-83.756183
END:VEVENT
BEGIN:VTIMEZONE
TZID:America/Detroit
X-LIC-LOCATION:America/Detroit
BEGIN:DAYLIGHT
DTSTART:20250309T030000
TZOFFSETFROM:-0500
TZOFFSETTO:-0400
TZNAME:EDT
END:DAYLIGHT
END:VTIMEZONE
END:VCALENDAR