BEGIN:VCALENDAR
VERSION:2.0
PRODID:-//wp-events-plugin.com//7.2.3.1//EN
TZID:America/Detroit
X-WR-TIMEZONE:America/Detroit
BEGIN:VEVENT
UID:93037@annarborwithkids.com
DTSTART;TZID=America/Detroit:20260422T093000
DTEND;TZID=America/Detroit:20260422T103000
DTSTAMP:20260312T155626Z
URL:https://annarborwithkids.com/events/tiny-tails-storytime-2026-03-25-20
 26-04-08-2026-04-22/
SUMMARY:Tiny Tails Storytime
DESCRIPTION:\nDo you have a young child who loves animals? Come to Tiny Lio
 ns on Wednesday mornings to have a pawsitively fun time! Designed for todd
 lers age 2-5\, Tiny Tails Story Time will keep your tot and you engaged th
 rough stories\, crafts\, finger plays and animal interactions.\n\n\n\nPre 
 registration is required. \n\n\n\n\n\n\n\n\n
CATEGORIES:Advance Registration,Animals,Indoor
 Activities,Preschoolers,Registration Required,Storytime,Toddler
LOCATION:Tiny Lions Lounge & Adoption Center\, 5245 Jackson Rd Suite A1\, A
 nn Arbor\, Michigan\, 48103\, West\, United States
GEO:42.2872607;-83.8339216
X-APPLE-STRUCTURED-LOCATION;VALUE=URI;X-ADDRESS=5245 Jackson Rd Suite A1\, 
 Ann Arbor\, Michigan\, 48103\, West\, United States;X-APPLE-RADIUS=100;X-T
 ITLE=Tiny Lions Lounge & Adoption Center:geo:42.2872607,-83.8339216
END:VEVENT
BEGIN:VTIMEZONE
TZID:America/Detroit
X-LIC-LOCATION:America/Detroit
BEGIN:DAYLIGHT
DTSTART:20260308T030000
TZOFFSETFROM:-0500
TZOFFSETTO:-0400
TZNAME:EDT
END:DAYLIGHT
END:VTIMEZONE
END:VCALENDAR