BEGIN:VCALENDAR
VERSION:2.0
PRODID:-//wp-events-plugin.com//7.2.3.1//EN
TZID:America/Detroit
X-WR-TIMEZONE:America/Detroit
BEGIN:VEVENT
UID:63390@annarborwithkids.com
DTSTART;TZID=America/Detroit:20260510T080000
DTEND;TZID=America/Detroit:20260510T100000
DTSTAMP:20260325T222323Z
URL:https://annarborwithkids.com/events/time-to-teal-5k-fun-run-walk/
SUMMARY:Mother's Day 5K and Fun Run
DESCRIPTION:\nMIOCA is proud to present their annual Mother’s Day Time to
  Teal Run/Walk on Sunday\, May 10\, 2026!\n\n\n\nGather your family and fr
 iends for this special Mother’s Day tradition that brings people togethe
 r to celebrate the incredible women in your life\, while ​raising crucia
 l ovarian cancer awareness in the community\n\n\n\nBoth the 5K and one-mil
 e Fun Run/Walk ​invite participants of all ages and abilities​!\n\n\n\
 nThe fun includes:\n\n\n\n\nChip-timed 5K bibs\n\n\n\nAwesome swag you’l
 l love\n\n\n\nCourses that welcome runners\, walkers\, and strollers​Awa
 rds for top finishers and fundraising prizes\n\n\n\nA joyful\, supportive 
 atmosphere honoring the amazing women in your life\n\n\n\n\n\n\n\n\n\n\n\n
CATEGORIES:Advance Registration,Arbor Annie's Highlights,Charitable
 Event,Elementary,Fitness/Health,High Schoolers,Middle Schoolers,Mother's
 Day,Optional Registration,Parents,Race
LOCATION:Rolling Hills County Park\, 7660 Stony Creek Rd\, Ypsilanti\, Mich
 igan\, 48197\, Ypsilanti Township\, United States
GEO:42.17612099999999;-83.648685
X-APPLE-STRUCTURED-LOCATION;VALUE=URI;X-ADDRESS=7660 Stony Creek Rd\, Ypsil
 anti\, Michigan\, 48197\, Ypsilanti Township\, United States;X-APPLE-RADIU
 S=100;X-TITLE=Rolling Hills County Park:geo:42.17612099999999,-83.648685
END:VEVENT
BEGIN:VTIMEZONE
TZID:America/Detroit
X-LIC-LOCATION:America/Detroit
BEGIN:DAYLIGHT
DTSTART:20260308T030000
TZOFFSETFROM:-0500
TZOFFSETTO:-0400
TZNAME:EDT
END:DAYLIGHT
END:VTIMEZONE
END:VCALENDAR