BEGIN:VCALENDAR
VERSION:2.0
PRODID:-//wp-events-plugin.com//7.2.3.1//EN
TZID:America/Detroit
X-WR-TIMEZONE:America/Detroit
BEGIN:VEVENT
UID:66360@annarborwithkids.com
DTSTART;TZID=America/Detroit:20251025T160000
DTEND;TZID=America/Detroit:20251025T180000
DTSTAMP:20250912T215530Z
URL:https://annarborwithkids.com/events/thrills-at-the-mills/
SUMMARY:Thrills at the Mills
DESCRIPTION:\nCome celebrate Halloween with an evening full of fun for ever
 yone\, including your pup at Hudson Mills Metropark!\n\n\n\nThe event kick
 s off with their annual Trunk or Treat. Vehicles used in the park\, like a
  dump truck\, police car\, and tractor will also be onsite\, decorated\, a
 nd handing out candy. The Metroparks Outreach van will be there too with a
 ctivities for the kids. There will also be a big screen dance party!\n\n\n
 \n Interested in being a part of the festivities and decorate a trunk? The
 y invite businesses and community members to sign up and host a family fri
 endly trunk.\n\n\n\nFun for all ages!\n\n\n\nThe event is free (except for
  daily or annual vehicle admission). However pre-registration is required 
 for trunks and treaters. \n\n\n\n\n\n\n\n\n\n\n
CATEGORIES:Advance Registration,Arbor Annie's
 Highlights,Elementary,Free,Halloween,High Schoolers,Middle
 Schoolers,Outdoor,Parents,Preschoolers,Registration Required,Toddler,Touch
 a Truck,Trick or Treat
LOCATION:Hudson Mills Metropark\, 8801 N. Territorial Rd\, Dexter\, Michiga
 n\, 48130\, Dexter\, United States
GEO:42.3866538;-83.9086605
X-APPLE-STRUCTURED-LOCATION;VALUE=URI;X-ADDRESS=8801 N. Territorial Rd\, De
 xter\, Michigan\, 48130\, Dexter\, United States;X-APPLE-RADIUS=100;X-TITL
 E=Hudson Mills Metropark:geo:42.3866538,-83.9086605
END:VEVENT
BEGIN:VTIMEZONE
TZID:America/Detroit
X-LIC-LOCATION:America/Detroit
BEGIN:DAYLIGHT
DTSTART:20250309T030000
TZOFFSETFROM:-0500
TZOFFSETTO:-0400
TZNAME:EDT
END:DAYLIGHT
END:VTIMEZONE
END:VCALENDAR