BEGIN:VCALENDAR
VERSION:2.0
PRODID:-//wp-events-plugin.com//7.2.3.1//EN
TZID:America/Detroit
X-WR-TIMEZONE:America/Detroit
BEGIN:VEVENT
UID:93534@annarborwithkids.com
DTSTART;TZID=America/Detroit:20260424T190000
DTEND;TZID=America/Detroit:20260424T190000
DTSTAMP:20260418T214614Z
URL:https://annarborwithkids.com/events/the-snowy-day-and-other-stories-by
 -ezra-jack-keats-2026-04-24/
SUMMARY:The Snowy Day and Other Stories by Ezra Jack Keats
DESCRIPTION:\nEMU Theatre is hosting a touring production of The Snowy Day 
 and Other Stories by Ezra Jack Keats. It is recommended for ages 4+.\n\n\n
 \nFollow Peter from a young boy into adolescence as these beloved stories 
 transport us through his discovery of newly fallen snow\, an encounter wit
 h local bullies\, and taking the risk of inviting a crush to his birthday 
 party. Using shadow puppetry and light play\, the sense of joy\, and the w
 onder &amp\; wishes of childhood are all captured in this charming adaptat
 ion of Ezra Jack Keats' award-winning children's book. Join in on the fun 
 as Peter ventures into the snow\, new friendships and the magic of imagina
 tion!\n\n\n\nTickets are $6/general admission. There are 3 shows - Friday\
 , April 24 at 7p and Saturday\, April 25 at 10a &amp\; 2p\n\n\n\n\n
CATEGORIES:Advance Registration,Arbor Annie's Highlights,Elementary,Indoor
 Activities,Preschoolers,Theater
LOCATION:Sponberg Theatre\, 1030 E CIrcle Dr\, Ypsilanti\, Michigan\, 48197
 \, Ypsilanti\, United States
GEO:42.24946;-83.621523
X-APPLE-STRUCTURED-LOCATION;VALUE=URI;X-ADDRESS=1030 E CIrcle Dr\, Ypsilant
 i\, Michigan\, 48197\, Ypsilanti\, United States;X-APPLE-RADIUS=100;X-TITL
 E=Sponberg Theatre:geo:42.24946,-83.621523
END:VEVENT
BEGIN:VTIMEZONE
TZID:America/Detroit
X-LIC-LOCATION:America/Detroit
BEGIN:DAYLIGHT
DTSTART:20260308T030000
TZOFFSETFROM:-0500
TZOFFSETTO:-0400
TZNAME:EDT
END:DAYLIGHT
END:VTIMEZONE
END:VCALENDAR