BEGIN:VCALENDAR
VERSION:2.0
PRODID:-//wp-events-plugin.com//7.2.3.1//EN
TZID:America/Detroit
X-WR-TIMEZONE:America/Detroit
BEGIN:VEVENT
UID:70499@annarborwithkids.com
DTSTART;TZID=America/Detroit:20260328T140000
DTEND;TZID=America/Detroit:20260328T150000
DTSTAMP:20260219T203621Z
URL:https://annarborwithkids.com/events/the-phil-hale-jazz-quartet/
SUMMARY:The Phil Hale Jazz Quartet
DESCRIPTION:\nYDL welcomes the Phil Hale Jazz Quartet\, featuring Phil Hale
  on keys\, John Douglas on trumpet\, John Barron on bass\, and Djallo Djak
 ate on drums. Their focus is on playing modern takes on standard jazz with
  a strong swing twist.\n\n\n\nSponsored by the Jazz Foundation of America.
 \n
CATEGORIES:Arbor Annie's Highlights,Elementary,Free,High Schoolers,Indoor
 Activities,Middle Schoolers,Music/Concerts,Parents,Preschoolers,Toddler
LOCATION:Ypsilanti District Library - Superior\, 1900 Harris Rd\, Ypsilanti
 \, Michigan\, 48198\, Ypsilanti\, United States
GEO:42.270591;-83.584503
X-APPLE-STRUCTURED-LOCATION;VALUE=URI;X-ADDRESS=1900 Harris Rd\, Ypsilanti\
 , Michigan\, 48198\, Ypsilanti\, United States;X-APPLE-RADIUS=100;X-TITLE=
 Ypsilanti District Library - Superior:geo:42.270591,-83.584503
END:VEVENT
BEGIN:VTIMEZONE
TZID:America/Detroit
X-LIC-LOCATION:America/Detroit
BEGIN:DAYLIGHT
DTSTART:20260308T030000
TZOFFSETFROM:-0500
TZOFFSETTO:-0400
TZNAME:EDT
END:DAYLIGHT
END:VTIMEZONE
END:VCALENDAR