BEGIN:VCALENDAR
VERSION:2.0
PRODID:-//wp-events-plugin.com//7.2.3.1//EN
TZID:America/Detroit
X-WR-TIMEZONE:America/Detroit
BEGIN:VEVENT
UID:67183@annarborwithkids.com
DTSTART;TZID=America/Detroit:20221029T190000
DTEND;TZID=America/Detroit:20221029T220000
DTSTAMP:20230713T014747Z
URL:https://annarborwithkids.com/events/the-haunted-drive-thru/
SUMMARY:The Haunted Drive Thru
DESCRIPTION:\nExperience Halloween with all the treats\, and way more trick
 s!\n\n\n\nRemain in the comfort of your car while rolling past a dizzying 
 array of costumed characters\, fire spinners\, circus artists\, and stunt 
 performers.\n\n\n\nDress for trick-or-treating since our volunteers will b
 e handing out candy right through your open windows- and don't forget your
  candy buckets!\n\n\n\nAdvance registration is required. Each vehicle need
 s only one timed-entry ticket.\n\n\n\n\n
CATEGORIES:Advance Registration,Arbor Annie's
 Highlights,Elementary,Halloween,High Schoolers,Middle
 Schoolers,Outdoor,Parents,Preschoolers,Theater,Trick or Treat
LOCATION:Ring of Steel\, 3907 Varsity Dr\, Ann Arbor\, Michigan\, 48108\, S
 outh\, United States
GEO:42.2308083;-83.72518630000002
X-APPLE-STRUCTURED-LOCATION;VALUE=URI;X-ADDRESS=3907 Varsity Dr\, Ann Arbor
 \, Michigan\, 48108\, South\, United States;X-APPLE-RADIUS=100;X-TITLE=Rin
 g of Steel:geo:42.2308083,-83.72518630000002
END:VEVENT
BEGIN:VTIMEZONE
TZID:America/Detroit
X-LIC-LOCATION:America/Detroit
BEGIN:DAYLIGHT
DTSTART:20220313T030000
TZOFFSETFROM:-0500
TZOFFSETTO:-0400
TZNAME:EDT
END:DAYLIGHT
END:VTIMEZONE
END:VCALENDAR