BEGIN:VCALENDAR
VERSION:2.0
PRODID:-//wp-events-plugin.com//7.2.3.1//EN
TZID:America/Detroit
X-WR-TIMEZONE:America/Detroit
BEGIN:VEVENT
UID:89180@annarborwithkids.com
DTSTART;TZID=America/Detroit:20260426T180000
DTEND;TZID=America/Detroit:20260426T200000
DTSTAMP:20260401T201249Z
URL:https://annarborwithkids.com/events/the-great-gatsby-ballet/
SUMMARY:World Ballet Company: Cinderella
DESCRIPTION:\nWorld Ballet Company brings Cinderella to Michigan Theater fo
 r a one night performance.  Ballet is 2 hours including a 20 min intermiss
 ion.\n\n\n\nFrom Michigan Theater:\n\n\n\n\nStep into the magical world of
  Cinderella\, live on stage!\n\n\n\nThe beloved fairy tale comes to life i
 n a spectacular Broadway-style production that delights all ages\, blendin
 g humor\, romance\, and the timeless majesty of classical ballet.\n\n\n\nW
 orld Ballet Company’s Cinderella features a dazzling cast of 40 internat
 ional dancers\, over 150 radiant hand-sewn costumes\, exquisite hand-craft
 ed sets\, and enchanting choreography by Marina Kesler. From the mischievo
 us evil stepsisters to the breathtaking ballroom scenes\, every moment is 
 filled with charm\, wonder and everything you’ve loved about this story 
 for years.\n\n\n\nJoin us for an unforgettable journey of magic\, beauty\,
  and the promise of "happily ever after." But remember\, when the clock st
 rikes midnight\, everything will change…\n\n\n\nMusic by Johann Strauss 
 II | The "Time" theme composed by Anna Drubich.\n\n\n\n\n\n
CATEGORIES:Advance Registration,Arbor Annie's Highlights,Elementary,High
 Schoolers,Indoor Activities,Middle Schoolers,Parents,Registration
 Required,Theater
LOCATION:Michigan Theater\, 603 E. Liberty St\, Ann Arbor\, MI\, 48104\, Do
 wntown\, United States
GEO:42.279704;-83.742019
X-APPLE-STRUCTURED-LOCATION;VALUE=URI;X-ADDRESS=603 E. Liberty St\, Ann Arb
 or\, MI\, 48104\, Downtown\, United States;X-APPLE-RADIUS=100;X-TITLE=Mich
 igan Theater:geo:42.279704,-83.742019
END:VEVENT
BEGIN:VTIMEZONE
TZID:America/Detroit
X-LIC-LOCATION:America/Detroit
BEGIN:DAYLIGHT
DTSTART:20260308T030000
TZOFFSETFROM:-0500
TZOFFSETTO:-0400
TZNAME:EDT
END:DAYLIGHT
END:VTIMEZONE
END:VCALENDAR