BEGIN:VCALENDAR
VERSION:2.0
PRODID:-//wp-events-plugin.com//7.2.3.1//EN
TZID:America/Detroit
X-WR-TIMEZONE:America/Detroit
BEGIN:VEVENT
UID:92988@annarborwithkids.com
DTSTART;TZID=America/Detroit:20260330T140000
DTEND;TZID=America/Detroit:20260330T160000
DTSTAMP:20260311T155357Z
URL:https://annarborwithkids.com/events/the-floor-is-lava/
SUMMARY:The Floor is Lava!
DESCRIPTION:\nGet ready to turn up the heat and unleash your inner adventur
 er with Saline District Library's Floor is Lava Program! Inspired by the c
 lassic childhood game\, participants navigate a self-paced obstacle course
  to find their way to safety!\n\n\n\nFor ages 5-12. No registration is req
 uired.\n\n\n\n\n
CATEGORIES:Arbor Annie's Highlights,Elementary,Free,Indoor Activities
LOCATION:Saline District Library\, 555 N. Maple Rd\, Saline\, Michigan\, 48
 176\, Saline\, United States
GEO:42.17779;-83.775429
X-APPLE-STRUCTURED-LOCATION;VALUE=URI;X-ADDRESS=555 N. Maple Rd\, Saline\, 
 Michigan\, 48176\, Saline\, United States;X-APPLE-RADIUS=100;X-TITLE=Salin
 e District Library:geo:42.17779,-83.775429
END:VEVENT
BEGIN:VTIMEZONE
TZID:America/Detroit
X-LIC-LOCATION:America/Detroit
BEGIN:DAYLIGHT
DTSTART:20260308T030000
TZOFFSETFROM:-0500
TZOFFSETTO:-0400
TZNAME:EDT
END:DAYLIGHT
END:VTIMEZONE
END:VCALENDAR