BEGIN:VCALENDAR
VERSION:2.0
PRODID:-//wp-events-plugin.com//7.2.3.1//EN
TZID:America/Detroit
X-WR-TIMEZONE:America/Detroit
BEGIN:VEVENT
UID:89178@annarborwithkids.com
DTSTART;TZID=America/Detroit:20260425T190000
DTEND;TZID=America/Detroit:20260425T220000
DTSTAMP:20260409T142058Z
URL:https://annarborwithkids.com/events/the-b-side-presents-margot-solomon
 -august-and-bekka-madeleine-live-at-the-neutral-zone/
SUMMARY:Soul Synthesis
DESCRIPTION:\nJoin The Neutral Zone for Soul Synthesis\, a youth centered h
 ip hop show. \n\n\n\nThey have announced the event and the performers\, bu
 t we don't see any pricing details. Program at The Neutral Zone are usuall
 y affordable.\n\n\n\n\n
CATEGORIES:Arbor Annie's Highlights,High Schoolers,Indoor
 Activities,Middle Schoolers,Music/Concerts,Parents
LOCATION:Neutral Zone\, 310 E. Washington St\, Ann Arbor\, Michigan\, 48104
 \, Downtown\, United States
GEO:42.2801422;-83.74561110000002
X-APPLE-STRUCTURED-LOCATION;VALUE=URI;X-ADDRESS=310 E. Washington St\, Ann 
 Arbor\, Michigan\, 48104\, Downtown\, United States;X-APPLE-RADIUS=100;X-T
 ITLE=Neutral Zone:geo:42.2801422,-83.74561110000002
END:VEVENT
BEGIN:VTIMEZONE
TZID:America/Detroit
X-LIC-LOCATION:America/Detroit
BEGIN:DAYLIGHT
DTSTART:20260308T030000
TZOFFSETFROM:-0500
TZOFFSETTO:-0400
TZNAME:EDT
END:DAYLIGHT
END:VTIMEZONE
END:VCALENDAR