BEGIN:VCALENDAR
VERSION:2.0
PRODID:-//wp-events-plugin.com//7.2.3.1//EN
TZID:America/Detroit
X-WR-TIMEZONE:America/Detroit
BEGIN:VEVENT
UID:76302@annarborwithkids.com
DTSTART;TZID=America/Detroit:20240120T150000
DTEND;TZID=America/Detroit:20240120T160000
DTSTAMP:20240111T211059Z
URL:https://annarborwithkids.com/events/the-anatomy-of-a-pandemic-recordin
 g-with-curtis-glatter/
SUMMARY:The Anatomy of a Pandemic Recording with Curtis Glatter
DESCRIPTION:\nCurtis Glatter will discuss his latest release with Troikastr
 a. Troikastra is a cross country music trio of Michigan based drummer/elec
 tronic musician Curtis Glatter\, turntable legend Tenshun and drummer/prod
 ucer Nathan Hubbard. The trio creates kaliedoscopic music from samples\, 1
 6rpm turntables and modular synths. For fans of musique concrete\, plunder
 phonics and skipping exotica records.\n\n\n\nCurtis Glatter is an Americ
 an artist\, composer\, improviser and percussionist. In the past 25 years
 \, Glatter has studied with Pierre Boulez and Leo Wadada Smith. He has per
 formed on numerous recordings all over America and has been a featured gue
 st on WXOU\, CTN TV\, WCBN\, WKPBS\, WHFR\, KSDS. In 2023\, Glatter and hi
 s cross-country trio called TROIKASTRA released their first CD called “I
 t's the door with the little stairs” on the Castor and Pollux Music labe
 l and this spring season he is currently hosting the 13th Annual Drum and 
 Dance Jam in 2024 at the Interfaith Center for Spiritual Growth in Ann Arb
 or\, Michigan.\n\n\n\nHeld in 4th floor meeting room. For teens &amp\; adu
 lts.\n
CATEGORIES:Arbor Annie's Highlights,Free,High Schoolers,Indoor
 Activities,Middle Schoolers,Music/Concerts,Parents
LOCATION:Downtown Branch of AADL\, 343 South Fifth Avenue\, Ann Arbor\, Mic
 higan\, 48104\, Downtown\, United States
GEO:42.278198;-83.745971
X-APPLE-STRUCTURED-LOCATION;VALUE=URI;X-ADDRESS=343 South Fifth Avenue\, An
 n Arbor\, Michigan\, 48104\, Downtown\, United States;X-APPLE-RADIUS=100;X
 -TITLE=Downtown Branch of AADL:geo:42.278198,-83.745971
END:VEVENT
BEGIN:VTIMEZONE
TZID:America/Detroit
X-LIC-LOCATION:America/Detroit
BEGIN:STANDARD
DTSTART:20231105T010000
TZOFFSETFROM:-0400
TZOFFSETTO:-0500
TZNAME:EST
END:STANDARD
END:VTIMEZONE
END:VCALENDAR