BEGIN:VCALENDAR
VERSION:2.0
PRODID:-//wp-events-plugin.com//7.2.3.1//EN
TZID:America/Detroit
X-WR-TIMEZONE:America/Detroit
BEGIN:VEVENT
UID:75606@annarborwithkids.com
DTSTART;TZID=America/Detroit:20251120T100000
DTEND;TZID=America/Detroit:20251120T140000
DTSTAMP:20251021T150349Z
URL:https://annarborwithkids.com/events/thankful-for-you-thanksgiving-pick
 -up/
SUMMARY:Thankful for You - Thanksgiving Pick-Up
DESCRIPTION:\nEMU is offering a free Thanksgiving meal pickup.\n\n\n\nStart
 ing at 10a until supplies last\, you can do a drive through pickup of Than
 ksgiving meals with frozen turkeys and hams\, pies and baked goods\, and l
 ocal produce.\n\n\n\nFor convenience the event is drive-through with one g
 iveaway per vehicle. Supplies are limited. First come\, first served.\n\n\
 n\n\n\nEditors Note: Last year the event ran until 2p so we are leaving th
 at as the end time\, but suggest arriving early to ensure you receive a me
 al.\n
CATEGORIES:Arbor Annie's Highlights,Charitable Event,Food,Free,High
 Schoolers,Indoor Activities,Meal,Parents,Thanksgiving
LOCATION:EMU George Gervin GameAbove Center\, 799 North Hewitt Road\, Ypsil
 anti\, Michigan\, 48197\, United States
GEO:42.254251;-83.647633
X-APPLE-STRUCTURED-LOCATION;VALUE=URI;X-ADDRESS=799 North Hewitt Road\, Yps
 ilanti\, Michigan\, 48197\, United States;X-APPLE-RADIUS=100;X-TITLE=EMU G
 eorge Gervin GameAbove Center:geo:42.254251,-83.647633
END:VEVENT
BEGIN:VTIMEZONE
TZID:America/Detroit
X-LIC-LOCATION:America/Detroit
BEGIN:STANDARD
DTSTART:20251102T010000
TZOFFSETFROM:-0400
TZOFFSETTO:-0500
TZNAME:EST
END:STANDARD
END:VTIMEZONE
END:VCALENDAR