BEGIN:VCALENDAR
VERSION:2.0
PRODID:-//wp-events-plugin.com//7.2.3.1//EN
TZID:America/Detroit
X-WR-TIMEZONE:America/Detroit
BEGIN:VEVENT
UID:93313@annarborwithkids.com
DTSTART;TZID=America/Detroit:20260418T153000
DTEND;TZID=America/Detroit:20260418T163000
DTSTAMP:20260323T214312Z
URL:https://annarborwithkids.com/events/teen-tea-party-2/
SUMMARY:Teen Tea Party
DESCRIPTION:\nJoin members of the Teen Advisory to make and sample a variet
 y of teas such as boba\, matcha\, chai\, and fruity blends. Eat fancy fing
 er foods\, too.\n\n\n\nFor ages 12-18.\n
CATEGORIES:Arbor Annie's Highlights,Food,Free,High Schoolers,Indoor
 Activities,Middle Schoolers
LOCATION:Ypsilanti District Library - Whittaker Rd\, 5577 Whittaker Rd\, Yp
 silanti\, Michigan\, 48197\, Ypsilanti\, United States
GEO:42.208097;-83.61557
X-APPLE-STRUCTURED-LOCATION;VALUE=URI;X-ADDRESS=5577 Whittaker Rd\, Ypsilan
 ti\, Michigan\, 48197\, Ypsilanti\, United States;X-APPLE-RADIUS=100;X-TIT
 LE=Ypsilanti District Library - Whittaker Rd:geo:42.208097,-83.61557
END:VEVENT
BEGIN:VTIMEZONE
TZID:America/Detroit
X-LIC-LOCATION:America/Detroit
BEGIN:DAYLIGHT
DTSTART:20260308T030000
TZOFFSETFROM:-0500
TZOFFSETTO:-0400
TZNAME:EDT
END:DAYLIGHT
END:VTIMEZONE
END:VCALENDAR