BEGIN:VCALENDAR
VERSION:2.0
PRODID:-//wp-events-plugin.com//7.2.3.1//EN
TZID:America/Detroit
X-WR-TIMEZONE:America/Detroit
BEGIN:VEVENT
UID:48212@annarborwithkids.com
DTSTART;TZID=America/Detroit:20251121T180000
DTEND;TZID=America/Detroit:20251121T200000
DTSTAMP:20251024T222555Z
URL:https://annarborwithkids.com/events/teen-steam-cafe-hovercrafts/
SUMMARY:Teen STEAM Cafe
DESCRIPTION:\nLearn about cool STEAM careers while hanging out with friends
 \, engaging in STEM activities\, and eating delicious food at Ypsi Distric
 t Library's TEEN ONLY after-hours cafes.\n\n\n\nJoin YDL for interactive\,
  lively discussions on STEAM careers with professionals in various fields 
 that you may have never heard about!\n\n\n\nDinner\, a gift card raffle\, 
 and fun activities such as learning how to extract DNA and examining slide
 s under microscopes will be incorporated in these&nbsp\;teen-only&nbsp\;af
 ter-hours&nbsp\;cafes!\n\n\n\nFor Teens only.\n\n\n\n\n
CATEGORIES:Arbor Annie's Highlights,Food,Free,High Schoolers,Indoor
 Activities,Middle Schoolers,STEM
LOCATION:Ypsilanti District Library - Michigan Ave Branch\, 229 West Michig
 an Avenue\, Ypsilanti\, Michigan\, 48197\, Ypsilanti\, United States
GEO:42.240746;-83.61565
X-APPLE-STRUCTURED-LOCATION;VALUE=URI;X-ADDRESS=229 West Michigan Avenue\, 
 Ypsilanti\, Michigan\, 48197\, Ypsilanti\, United States;X-APPLE-RADIUS=10
 0;X-TITLE=Ypsilanti District Library - Michigan Ave Branch:geo:42.240746,-
 83.61565
END:VEVENT
BEGIN:VTIMEZONE
TZID:America/Detroit
X-LIC-LOCATION:America/Detroit
BEGIN:STANDARD
DTSTART:20251102T010000
TZOFFSETFROM:-0400
TZOFFSETTO:-0500
TZNAME:EST
END:STANDARD
END:VTIMEZONE
END:VCALENDAR