BEGIN:VCALENDAR
VERSION:2.0
PRODID:-//wp-events-plugin.com//7.2.3.1//EN
TZID:America/Detroit
X-WR-TIMEZONE:America/Detroit
BEGIN:VEVENT
UID:92618@annarborwithkids.com
DTSTART;TZID=America/Detroit:20260417T180000
DTEND;TZID=America/Detroit:20260417T200000
DTSTAMP:20260323T204823Z
URL:https://annarborwithkids.com/events/teen-steam-cafe-3/
SUMMARY:Teen STEAM Cafe
DESCRIPTION:\nDinner\, activities\, and learning\, oh my! Join our teen lea
 ders and a new STEAM expert each month to explore a different career field
  with a presentation from our expert and hands-on activities. Dive into ST
 EAM learning with this interactive and engaging program for ages 12-18. Th
 e program takes place after library hours and participants get dinner\; a 
 fun and informative Friday night!\n\n\n\nPast topics have included:&nbsp\;
 \n\n\n\n\nHow Chocolate Gets Made with MINDO Chocolatiers\n\n\n\nWeather S
 cience with EMU STEMed\n\n\n\nThe Science of Sourdough with B-Cubed Bakery
 \n\n\n\nArchitectural Pathways with Quinn Evans Architects\n\n\n\n\nFor Te
 ens only.\n\n\n\n\n
CATEGORIES:Arbor Annie's Highlights,Food,Free,High Schoolers,Indoor
 Activities,Middle Schoolers,STEM
LOCATION:Ypsilanti District Library - Michigan Ave Branch\, 229 West Michig
 an Avenue\, Ypsilanti\, Michigan\, 48197\, Ypsilanti\, United States
GEO:42.240746;-83.61565
X-APPLE-STRUCTURED-LOCATION;VALUE=URI;X-ADDRESS=229 West Michigan Avenue\, 
 Ypsilanti\, Michigan\, 48197\, Ypsilanti\, United States;X-APPLE-RADIUS=10
 0;X-TITLE=Ypsilanti District Library - Michigan Ave Branch:geo:42.240746,-
 83.61565
END:VEVENT
BEGIN:VTIMEZONE
TZID:America/Detroit
X-LIC-LOCATION:America/Detroit
BEGIN:DAYLIGHT
DTSTART:20260308T030000
TZOFFSETFROM:-0500
TZOFFSETTO:-0400
TZNAME:EDT
END:DAYLIGHT
END:VTIMEZONE
END:VCALENDAR