BEGIN:VCALENDAR
VERSION:2.0
PRODID:-//wp-events-plugin.com//7.2.3.1//EN
TZID:America/Detroit
X-WR-TIMEZONE:America/Detroit
BEGIN:VEVENT
UID:92925@annarborwithkids.com
DTSTART;TZID=America/Detroit:20260331T183000
DTEND;TZID=America/Detroit:20260331T203000
DTSTAMP:20260309T220800Z
URL:https://annarborwithkids.com/events/teen-self-care-fair/
SUMMARY:Teen Self-Care Fair
DESCRIPTION:\nA bonanza of self-care options for any and all teens! Join YD
 L to take over the basement floor and indulge your senses in multiple area
 s of self-care while filling your cup.\n\n\n\nAreas will include:\n\n\n\n\
 nGames Parlor\n\n\n\nSnack Station\n\n\n\nCrafts and Art\n\n\n\n\nThere wi
 ll be an Uno Tournament in the Games Parlor\, Room 2 will be dedicated to 
 low stimulation crafting\, and they will create spaces for teens to connec
 t and learn more about how to help themselves when they are stressed.  \
 n\n\n\n\n
CATEGORIES:Arbor Annie's Highlights,Crafts,Free,Games,Health,High
 Schoolers,Indoor Activities,Middle Schoolers
LOCATION:Ypsilanti District Library - Michigan Ave Branch\, 229 West Michig
 an Avenue\, Ypsilanti\, Michigan\, 48197\, Ypsilanti\, United States
GEO:42.240746;-83.61565
X-APPLE-STRUCTURED-LOCATION;VALUE=URI;X-ADDRESS=229 West Michigan Avenue\, 
 Ypsilanti\, Michigan\, 48197\, Ypsilanti\, United States;X-APPLE-RADIUS=10
 0;X-TITLE=Ypsilanti District Library - Michigan Ave Branch:geo:42.240746,-
 83.61565
END:VEVENT
BEGIN:VTIMEZONE
TZID:America/Detroit
X-LIC-LOCATION:America/Detroit
BEGIN:DAYLIGHT
DTSTART:20260308T030000
TZOFFSETFROM:-0500
TZOFFSETTO:-0400
TZNAME:EDT
END:DAYLIGHT
END:VTIMEZONE
END:VCALENDAR