BEGIN:VCALENDAR
VERSION:2.0
PRODID:-//wp-events-plugin.com//7.2.3.1//EN
TZID:America/Detroit
X-WR-TIMEZONE:America/Detroit
BEGIN:VEVENT
UID:91239@annarborwithkids.com
DTSTART;TZID=America/Detroit:20260422T163000
DTEND;TZID=America/Detroit:20260422T173000
DTSTAMP:20260323T220506Z
URL:https://annarborwithkids.com/events/teen-books-and-bites/
SUMMARY:Teen Books and Bites
DESCRIPTION:\nTeens in grades 7 through 9 are invited to Books and Bites bo
 ok club at Dexter District Library. Join them each month to eat snacks and
  talk about books with other teens. Read something new each month\, or dis
 cuss books and series you’ve already read.\n\n\n\nThis month: they are 
 discussing Dead Flip by Sara Farizan.\n\n\n\n\n
CATEGORIES:Advance Registration,Arbor Annie's Highlights,Book Club/Reading
 Event,Free,High Schoolers,Indoor Activities,Middle Schoolers,Registration
 Required
LOCATION:Dexter District Library\, 3255 Alpine St\, Dexter\, Michigan\, 481
 30\, Dexter\, United States
GEO:42.340266;-83.88900000000001
X-APPLE-STRUCTURED-LOCATION;VALUE=URI;X-ADDRESS=3255 Alpine St\, Dexter\, M
 ichigan\, 48130\, Dexter\, United States;X-APPLE-RADIUS=100;X-TITLE=Dexter
  District Library:geo:42.340266,-83.88900000000001
END:VEVENT
BEGIN:VTIMEZONE
TZID:America/Detroit
X-LIC-LOCATION:America/Detroit
BEGIN:DAYLIGHT
DTSTART:20260308T030000
TZOFFSETFROM:-0500
TZOFFSETTO:-0400
TZNAME:EDT
END:DAYLIGHT
END:VTIMEZONE
END:VCALENDAR