BEGIN:VCALENDAR
VERSION:2.0
PRODID:-//wp-events-plugin.com//7.2.3.1//EN
TZID:America/Detroit
X-WR-TIMEZONE:America/Detroit
BEGIN:VEVENT
UID:89591@annarborwithkids.com
DTSTART;TZID=America/Detroit:20260423T183000
DTEND;TZID=America/Detroit:20260423T193000
DTSTAMP:20260309T211801Z
URL:https://annarborwithkids.com/events/teen-book-club-2/
SUMMARY:Teen Book Club
DESCRIPTION:\nJoin YDL board member and educator Jean Winborn and other tee
 ns to cook and/or do an art project that ties into a different YA book eac
 h month.&nbsp\;\n\n\n\n\nMarch 19: Read the manga The Fragrant Flower Blo
 oms with Dignity and watch an episode of the anime while eating strawberr
 y shortcake. \n\n\n\nApril 23: Read the dystopian adventure The Dividing 
 Sky by Jill Tew and decorate cookies. \n\n\n\n\nEmail&nbsp\;jodi@ypsilib
 rary.org&nbsp\;with questions or to get a copy of the next month's book.\n
CATEGORIES:Arbor Annie's Highlights,Book Club/Reading Event,Free,High
 Schoolers,Indoor Activities,Middle Schoolers
LOCATION:Ypsilanti District Library - Whittaker Rd\, 5577 Whittaker Rd\, Yp
 silanti\, Michigan\, 48197\, Ypsilanti\, United States
GEO:42.208097;-83.61557
X-APPLE-STRUCTURED-LOCATION;VALUE=URI;X-ADDRESS=5577 Whittaker Rd\, Ypsilan
 ti\, Michigan\, 48197\, Ypsilanti\, United States;X-APPLE-RADIUS=100;X-TIT
 LE=Ypsilanti District Library - Whittaker Rd:geo:42.208097,-83.61557
END:VEVENT
BEGIN:VTIMEZONE
TZID:America/Detroit
X-LIC-LOCATION:America/Detroit
BEGIN:DAYLIGHT
DTSTART:20260308T030000
TZOFFSETFROM:-0500
TZOFFSETTO:-0400
TZNAME:EDT
END:DAYLIGHT
END:VTIMEZONE
END:VCALENDAR