BEGIN:VCALENDAR
VERSION:2.0
PRODID:-//wp-events-plugin.com//7.2.3.1//EN
TZID:America/Detroit
X-WR-TIMEZONE:America/Detroit
BEGIN:VEVENT
UID:76339@annarborwithkids.com
DTSTART;TZID=America/Detroit:20251124T190000
DTEND;TZID=America/Detroit:20251124T201500
DTSTAMP:20250925T164422Z
URL:https://annarborwithkids.com/events/teen-adult-banned-book-club/
SUMMARY:Teen &amp\; Adult Banned Book Club
DESCRIPTION:\nRead\, discuss\, and celebrate stories that have sparked cont
 roversy and inspired change. Registration is required. Ages 16+.\n\n\n\nJo
 in readers in conversation about books that are frequently challenged and 
 banned. Read\, discuss\, and celebrate stories that have sparked controver
 sy and inspired change. Copies of the book are available at the Superior b
 ranch one month before the discussion date. Registration is required. Ages
  16+.&nbsp\;\n\n\n\n\nSeptember 29 - Cinderella is Dead by Kalynn Bayron\n
 \n\n\nOctober 27 - The Bluest Eye by Toni Morrison\n\n\n\nNovember 24 - Ai
 rstotle &amp\; Dante Discover the Secrets of the Universe by Benjamin Alir
 e Sáenz\n\n
CATEGORIES:Arbor Annie's Highlights,Book Club/Reading Event,Free,High
 Schoolers,Indoor Activities,LGBTQ+,Parents
LOCATION:Ypsilanti District Library - Superior\, 1900 Harris Rd\, Ypsilanti
 \, Michigan\, 48198\, Ypsilanti\, United States
GEO:42.270591;-83.584503
X-APPLE-STRUCTURED-LOCATION;VALUE=URI;X-ADDRESS=1900 Harris Rd\, Ypsilanti\
 , Michigan\, 48198\, Ypsilanti\, United States;X-APPLE-RADIUS=100;X-TITLE=
 Ypsilanti District Library - Superior:geo:42.270591,-83.584503
END:VEVENT
BEGIN:VTIMEZONE
TZID:America/Detroit
X-LIC-LOCATION:America/Detroit
BEGIN:STANDARD
DTSTART:20251102T010000
TZOFFSETFROM:-0400
TZOFFSETTO:-0500
TZNAME:EST
END:STANDARD
END:VTIMEZONE
END:VCALENDAR