BEGIN:VCALENDAR
VERSION:2.0
PRODID:-//wp-events-plugin.com//7.2.3.1//EN
TZID:America/Detroit
X-WR-TIMEZONE:America/Detroit
BEGIN:VEVENT
UID:61714@annarborwithkids.com
DTSTART;TZID=America/Detroit:20250117T100000
DTEND;TZID=America/Detroit:20250117T170000
DTSTAMP:20250113T005024Z
URL:https://annarborwithkids.com/events/tecumseh-ice-sculpture-festival/
SUMMARY:Tecumseh Ice Sculpture Festival
DESCRIPTION:\nHead to downtown Tecumseh for their 16th annual Ice Sculpture
  Festival. This year's event will be Friday/Saturday instead of Saturday/S
 unday like last year.\n\n\n\nCheck out the more than 45 ice sculptures. Sa
 turday will feature live carving demonstrations throughout the day and due
 ling carving competition.\n\n\n\nAlso on Saturday\, see the birds from the
  Michigan Avian Experience from 1-3p.\n\n\n\nGo on a scavenger hunt throug
 h participating merchants.\n
CATEGORIES:Arbor Annie's Highlights,Elementary,Free,High Schoolers,Middle
 Schoolers,Parents,Preschoolers,Toddler,Winter Fun
LOCATION:Downtown Tecumseh\, 309 E. Chicago Blvd\, Tecumseh\, Michigan\, 49
 286\, Tecumseh\, United States
GEO:42.004583;-83.940643
X-APPLE-STRUCTURED-LOCATION;VALUE=URI;X-ADDRESS=309 E. Chicago Blvd\, Tecum
 seh\, Michigan\, 49286\, Tecumseh\, United States;X-APPLE-RADIUS=100;X-TIT
 LE=Downtown Tecumseh:geo:42.004583,-83.940643
END:VEVENT
BEGIN:VTIMEZONE
TZID:America/Detroit
X-LIC-LOCATION:America/Detroit
BEGIN:STANDARD
DTSTART:20241103T010000
TZOFFSETFROM:-0400
TZOFFSETTO:-0500
TZNAME:EST
END:STANDARD
END:VTIMEZONE
END:VCALENDAR