BEGIN:VCALENDAR
VERSION:2.0
PRODID:-//wp-events-plugin.com//7.2.3.1//EN
TZID:America/Detroit
X-WR-TIMEZONE:America/Detroit
BEGIN:VEVENT
UID:30676@annarborwithkids.com
DTSTART;TZID=America/Detroit:20260531T110000
DTEND;TZID=America/Detroit:20260531T170000
DTSTAMP:20260326T170832Z
URL:https://annarborwithkids.com/events/taste-of-ann-arbor-3-2/
SUMMARY:Taste of Ann Arbor
DESCRIPTION:Head to Main St to sample fare from some favorite Ann Arbor res
 taurants at the 2022 Taste of Ann Arbor. This is one of our family's favor
 ite Ann Arbor traditions. My daughter loves trying all the food now. Howev
 er\, even when she was younger and a picky eater there were options to ple
 ase her including pizza\, chicken on a stick\, hot dogs\, ice cream\, and 
 more.
ATTACH;FMTTYPE=image/jpeg:https://annarborwithkids.com/wp-content/uploads/
 2016/05/taste-of-ann-arbor.jpg
CATEGORIES:Arbor Annie's Highlights,Babies,Display
 Image,Elementary,Food,High Schoolers,Middle
 Schoolers,Parents,Preschoolers,Toddler
LOCATION:Main Street Area\, Main Street and Liberty\, Ann Arbor \, MI\, 481
 04\, Downtown\, United States
GEO:42.2795761;-83.74859989999999
X-APPLE-STRUCTURED-LOCATION;VALUE=URI;X-ADDRESS=Main Street and Liberty\, A
 nn Arbor \, MI\, 48104\, Downtown\, United States;X-APPLE-RADIUS=100;X-TIT
 LE=Main Street Area:geo:42.2795761,-83.74859989999999
END:VEVENT
BEGIN:VTIMEZONE
TZID:America/Detroit
X-LIC-LOCATION:America/Detroit
BEGIN:DAYLIGHT
DTSTART:20260308T030000
TZOFFSETFROM:-0500
TZOFFSETTO:-0400
TZNAME:EDT
END:DAYLIGHT
END:VTIMEZONE
END:VCALENDAR