BEGIN:VCALENDAR
VERSION:2.0
PRODID:-//wp-events-plugin.com//7.2.3.1//EN
TZID:America/Detroit
X-WR-TIMEZONE:America/Detroit
BEGIN:VEVENT
UID:72396@annarborwithkids.com
DTSTART;TZID=America/Detroit:20240309T130000
DTEND;TZID=America/Detroit:20240309T140000
DTSTAMP:20240229T184957Z
URL:https://annarborwithkids.com/events/tag-teen-advisory-group-3/
SUMMARY:TAG: Teen Advisory Group
DESCRIPTION:\nTeens in the Dexter area are invited to join the Dexter Distr
 ict Library's Teen Advisory Group at the meeting to discuss future program
 s\, book selections\, and how to improve the library. They'll do small ser
 vice projects during meetings.\n\n\n\nPizza lunch will be provided.\n\n\n\
 nFor grades 7-12. Advance registration required\n
CATEGORIES:Advance Registration,Arbor Annie's Highlights,Food,Free,High
 Schoolers,Indoor Activities,Middle Schoolers
LOCATION:Dexter District Library\, 3255 Alpine St\, Dexter\, Michigan\, 481
 30\, Dexter\, United States
GEO:42.340266;-83.88900000000001
X-APPLE-STRUCTURED-LOCATION;VALUE=URI;X-ADDRESS=3255 Alpine St\, Dexter\, M
 ichigan\, 48130\, Dexter\, United States;X-APPLE-RADIUS=100;X-TITLE=Dexter
  District Library:geo:42.340266,-83.88900000000001
END:VEVENT
BEGIN:VTIMEZONE
TZID:America/Detroit
X-LIC-LOCATION:America/Detroit
BEGIN:STANDARD
DTSTART:20231105T010000
TZOFFSETFROM:-0400
TZOFFSETTO:-0500
TZNAME:EST
END:STANDARD
END:VTIMEZONE
END:VCALENDAR