BEGIN:VCALENDAR
VERSION:2.0
PRODID:-//wp-events-plugin.com//7.2.3.1//EN
TZID:America/Detroit
X-WR-TIMEZONE:America/Detroit
BEGIN:VEVENT
UID:49056@annarborwithkids.com
DTSTART;TZID=America/Detroit:20190825T180000
DTEND;TZID=America/Detroit:20190825T200000
DTSTAMP:20200729T032022Z
URL:https://annarborwithkids.com/events/sundays-in-the-garden-abigail-stau
 ffer-kate-peterson/
SUMMARY:Sundays in the Garden: Abigail Stauffer & Kate Peterson
DESCRIPTION:Cultivate Coffee &amp\; TapHouse is holding Sundays int eh Gard
 en - 12 weeks of Bands\, Breweries\, and non-Profits\n\nThis week's Lineup
 :\n\n 	Bands: Abigail Stauffer &amp\; Kate Peterson\n 	Non-Profit: City Bu
 ilt Brewing Company\n 	Brewery: Food Gatherers\n\nCheck out the full sched
 ule:\n\n[events_list tag="Sundays in Garden" scope="2019-06-01\,2019-09-30
 "]\n\n&nbsp\;
CATEGORIES:Arbor Annie's Highlights,Charitable
 Event,Concert,Elementary,Free,High Schoolers,Middle
 Schoolers,Music/Concerts,Parents
LOCATION:Cultivate Coffee & TapHouse\, 307 N. River St\, Ypsilanti\, Michig
 an\, 48198\, Ypsilanti\, United States
GEO:42.24489699999999;-83.60928000000001
X-APPLE-STRUCTURED-LOCATION;VALUE=URI;X-ADDRESS=307 N. River St\, Ypsilanti
 \, Michigan\, 48198\, Ypsilanti\, United States;X-APPLE-RADIUS=100;X-TITLE
 =Cultivate Coffee & TapHouse:geo:42.24489699999999,-83.60928000000001
END:VEVENT
BEGIN:VTIMEZONE
TZID:America/Detroit
X-LIC-LOCATION:America/Detroit
BEGIN:DAYLIGHT
DTSTART:20190310T030000
TZOFFSETFROM:-0500
TZOFFSETTO:-0400
TZNAME:EDT
END:DAYLIGHT
END:VTIMEZONE
END:VCALENDAR