BEGIN:VCALENDAR
VERSION:2.0
PRODID:-//wp-events-plugin.com//7.2.3.1//EN
TZID:America/Detroit
X-WR-TIMEZONE:America/Detroit
BEGIN:VEVENT
UID:92556@annarborwithkids.com
DTSTART;TZID=America/Detroit:20260331T140000
DTEND;TZID=America/Detroit:20260331T153000
DTSTAMP:20260218T211339Z
URL:https://annarborwithkids.com/events/sundaes-and-games/
SUMMARY:Sundaes and Games
DESCRIPTION:\nTeens &amp\; Tweens are invited to join Dexter District Libra
 ry for Sundaes and Games.\n\n\n\nMake a sundae with a variety of toppings\
 , then play games with your friends. They'll have ping pong\, foosball\, a
 nd a variety of board and card games available to play.\n\n\n\nRegistratio
 n is required.\n
CATEGORIES:Advance Registration,Arbor Annie's Highlights,Food,Free,High
 Schoolers,Indoor Activities,Middle Schoolers,Registration Required
LOCATION:Dexter District Library\, 3255 Alpine St\, Dexter\, Michigan\, 481
 30\, Dexter\, United States
GEO:42.340266;-83.88900000000001
X-APPLE-STRUCTURED-LOCATION;VALUE=URI;X-ADDRESS=3255 Alpine St\, Dexter\, M
 ichigan\, 48130\, Dexter\, United States;X-APPLE-RADIUS=100;X-TITLE=Dexter
  District Library:geo:42.340266,-83.88900000000001
END:VEVENT
BEGIN:VTIMEZONE
TZID:America/Detroit
X-LIC-LOCATION:America/Detroit
BEGIN:DAYLIGHT
DTSTART:20260308T030000
TZOFFSETFROM:-0500
TZOFFSETTO:-0400
TZNAME:EDT
END:DAYLIGHT
END:VTIMEZONE
END:VCALENDAR