BEGIN:VCALENDAR
VERSION:2.0
PRODID:-//wp-events-plugin.com//7.2.3.1//EN
TZID:America/Detroit
X-WR-TIMEZONE:America/Detroit
BEGIN:VEVENT
UID:92555@annarborwithkids.com
DTSTART;TZID=America/Detroit:20260328T143000
DTEND;TZID=America/Detroit:20260328T153000
DTSTAMP:20260218T211112Z
URL:https://annarborwithkids.com/events/suncatcher-painting-for-teens-twee
 ns/
SUMMARY:Suncatcher Painting for Teens &amp\; Tweens
DESCRIPTION:\nCelebrate sunny days and paint your own suncatcher. Hang it i
 n your window to share light\, color\, and your creativity with the world.
 \n\n\n\nFor grades 5-12.\n\n\n\nRegistration is required.\n
CATEGORIES:Advance Registration,Arbor Annie's
 Highlights,Crafts,Elementary,Free,High Schoolers,Indoor Activities,Middle
 Schoolers,Parents,Preschoolers,Registration Required,Winter Fun
LOCATION:Dexter District Library\, 3255 Alpine St\, Dexter\, Michigan\, 481
 30\, Dexter\, United States
GEO:42.340266;-83.88900000000001
X-APPLE-STRUCTURED-LOCATION;VALUE=URI;X-ADDRESS=3255 Alpine St\, Dexter\, M
 ichigan\, 48130\, Dexter\, United States;X-APPLE-RADIUS=100;X-TITLE=Dexter
  District Library:geo:42.340266,-83.88900000000001
END:VEVENT
BEGIN:VTIMEZONE
TZID:America/Detroit
X-LIC-LOCATION:America/Detroit
BEGIN:DAYLIGHT
DTSTART:20260308T030000
TZOFFSETFROM:-0500
TZOFFSETTO:-0400
TZNAME:EDT
END:DAYLIGHT
END:VTIMEZONE
END:VCALENDAR