BEGIN:VCALENDAR
VERSION:2.0
PRODID:-//wp-events-plugin.com//7.2.3.1//EN
TZID:America/Detroit
X-WR-TIMEZONE:America/Detroit
BEGIN:VEVENT
UID:87438@annarborwithkids.com
DTSTART;TZID=America/Detroit:20250619T140000
DTEND;TZID=America/Detroit:20250619T150000
DTSTAMP:20250603T203049Z
URL:https://annarborwithkids.com/events/sun-bird-with-michigan-author-illu
 strator-lindsay-moore/
SUMMARY:Sun Bird with Michigan author/illustrator Lindsay Moore
DESCRIPTION:\nJoin YDL for an author visit with Lindsay Moore featuring fun
  STEM projects. Create life-size paper arctic terns\, make wings\, and exp
 lore migration routes with lacing cards. Black Stone Bookstore will have b
 ooks for purchase.\n\n\n\n\n
CATEGORIES:Arbor Annie's Highlights,Author Event,Elementary,Free,Indoor
 Activities,Nature,Parents,Preschoolers,STEM,Storytime
LOCATION:Ypsilanti District Library - Whittaker Rd\, 5577 Whittaker Rd\, Yp
 silanti\, Michigan\, 48197\, Ypsilanti\, United States
GEO:42.208097;-83.61557
X-APPLE-STRUCTURED-LOCATION;VALUE=URI;X-ADDRESS=5577 Whittaker Rd\, Ypsilan
 ti\, Michigan\, 48197\, Ypsilanti\, United States;X-APPLE-RADIUS=100;X-TIT
 LE=Ypsilanti District Library - Whittaker Rd:geo:42.208097,-83.61557
END:VEVENT
BEGIN:VTIMEZONE
TZID:America/Detroit
X-LIC-LOCATION:America/Detroit
BEGIN:DAYLIGHT
DTSTART:20250309T030000
TZOFFSETFROM:-0500
TZOFFSETTO:-0400
TZNAME:EDT
END:DAYLIGHT
END:VTIMEZONE
END:VCALENDAR