BEGIN:VCALENDAR
VERSION:2.0
PRODID:-//wp-events-plugin.com//7.2.3.1//EN
TZID:America/Detroit
X-WR-TIMEZONE:America/Detroit
BEGIN:VEVENT
UID:87307@annarborwithkids.com
DTSTART;TZID=America/Detroit:20250619T110000
DTEND;TZID=America/Detroit:20250619T120000
DTSTAMP:20250530T221046Z
URL:https://annarborwithkids.com/events/sun-and-sprouts-stem-in-the-garden
 -2025-06-19/
SUMMARY:Sun and Sprouts Gardening: Garden Recipes
DESCRIPTION:\nJoin Library Gardener Stephanie to try simple recipes featuri
 ng garden ingredients while learning tips and tricks related to gardening\
 , harvesting\, and making the most of your garden.\n\n\n\n\n\n\n\nFor all 
 ages.\n\n\n\n\n\nOr Find Fresh Food Here:\n\n\n\nIf you don't want to have
  your own garden\, check out local pick your own farms and farmers markets
 .\n\n\n\n\n
CATEGORIES:Animals,Elementary,Free,High Schoolers,Middle
 Schoolers,Outdoor,Parents,Preschoolers
LOCATION:Ypsilanti District Library - Michigan Ave Branch\, 229 West Michig
 an Avenue\, Ypsilanti\, Michigan\, 48197\, Ypsilanti\, United States
GEO:42.240746;-83.61565
X-APPLE-STRUCTURED-LOCATION;VALUE=URI;X-ADDRESS=229 West Michigan Avenue\, 
 Ypsilanti\, Michigan\, 48197\, Ypsilanti\, United States;X-APPLE-RADIUS=10
 0;X-TITLE=Ypsilanti District Library - Michigan Ave Branch:geo:42.240746,-
 83.61565
END:VEVENT
BEGIN:VTIMEZONE
TZID:America/Detroit
X-LIC-LOCATION:America/Detroit
BEGIN:DAYLIGHT
DTSTART:20250309T030000
TZOFFSETFROM:-0500
TZOFFSETTO:-0400
TZNAME:EDT
END:DAYLIGHT
END:VTIMEZONE
END:VCALENDAR