BEGIN:VCALENDAR
VERSION:2.0
PRODID:-//wp-events-plugin.com//7.2.3.1//EN
TZID:America/Detroit
X-WR-TIMEZONE:America/Detroit
BEGIN:VEVENT
UID:86639@annarborwithkids.com
DTSTART;TZID=America/Detroit:20250823T070000
DTEND;TZID=America/Detroit:20250823T100000
DTSTAMP:20250505T204820Z
URL:https://annarborwithkids.com/events/summer-sizzler-ann-arbor/
SUMMARY:Summer Sizzler - Ann Arbor
DESCRIPTION:\nJoin Bodies Race Company for the annual Summer Sizzler 5k/10k
 /15k! A fun summer event that is perfect for the whole family.\n\n\n\nThe 
 fun includes –\n\n\n\nGreat Swag – designer shirt &amp\; custom medalC
 hip-timing with live results and awardsFree photosDelicious Treats waiting
  at the finish lineFREE Kona IcePlenty of fun!\n\n\n\nGrab your friends an
 d family\, you are not going to want to miss this one!\n\n\n\nCan't make t
 he race? No problem! They offer a virtual race option where you can run an
 ywhere\, at any time\, and still earn the fun swag!\n\n\n\n*Youth-based pr
 icing for the 5k/10k\, 12 &amp\; Under are only $17\n\n\n\n5k/10k/15K regi
 stration includes a custom bib\, designer shirt\, and a custom finisher me
 dal!\n\n\n\n1 Mile registration is untimed and includes a custom bib\, des
 igner shirt\, and an awesome finisher medal!\n\n\n\nThe kid's dash is a fu
 n\, untimed dash for kiddos ages 10 and under. Registration includes a min
 i bib\, youth-sized shirt\, and a specifically crafted medal for our kids'
  dash event! (If your child wants to run the kid's dash\, and doesn't want
  the SWAG\, they are welcome to run on race day for free!)\n\n\n\n*Registe
 r by midnight on Thursday\, two Thursdays before race day\, to guarantee y
 our shirt!\n\n\n\n**Please note a $10 parking fee is required to enter the
  park\, unless you have a MetroParks Annual Pass**\n\n\n\n\n
CATEGORIES:Advance Registration,Arbor Annie's
 Highlights,Elementary,Food,High Schoolers,Middle
 Schoolers,Outdoor,Parents,Race,Registration Required
LOCATION:Kensington Metropark\, 4570 Huron River Parkway\, Milford\, Michig
 an\, 48381\, Beyond Washtenaw\, United States
GEO:42.528995;-83.637566
X-APPLE-STRUCTURED-LOCATION;VALUE=URI;X-ADDRESS=4570 Huron River Parkway\, 
 Milford\, Michigan\, 48381\, Beyond Washtenaw\, United States;X-APPLE-RADI
 US=100;X-TITLE=Kensington Metropark:geo:42.528995,-83.637566
END:VEVENT
BEGIN:VTIMEZONE
TZID:America/Detroit
X-LIC-LOCATION:America/Detroit
BEGIN:DAYLIGHT
DTSTART:20250309T030000
TZOFFSETFROM:-0500
TZOFFSETTO:-0400
TZNAME:EDT
END:DAYLIGHT
END:VTIMEZONE
END:VCALENDAR