BEGIN:VCALENDAR
VERSION:2.0
PRODID:-//wp-events-plugin.com//7.2.3.1//EN
TZID:America/Detroit
X-WR-TIMEZONE:America/Detroit
BEGIN:VEVENT
UID:93505@annarborwithkids.com
DTSTART;TZID=America/Detroit:20260512T154500
DTEND;TZID=America/Detroit:20260512T173000
DTSTAMP:20260413T180904Z
URL:https://annarborwithkids.com/events/summer-garden-plant-sale-2026-05-1
 2/
SUMMARY:Summer Garden Plant Sale
DESCRIPTION:\nCome and get your summer vegetable\, herb\, and flower starte
 rs for your summer garden and support Daycroft School. All starters were s
 tarted by Daycroft students\, and proceeds will go directly to the school.
  \n\n\n\nCome after school from 3pm-5:30pm on any one of the four days: Tu
 esdays &amp\; Wednesdays\, May 5\, 6 and 12\, 13th.\n\n\n\n\n\n\n
CATEGORIES:Arbor Annie's Highlights,Charitable Event,Elementary,High
 Schoolers,Middle Schoolers,Mother's Day,Nature,Parents,Preschoolers,School
 Fundraiser,Shopping
LOCATION:Daycroft School\, 1095 N. Zeeb Rd\, Ann Arbor\, Michigan\, 48103\,
  West\, United States
GEO:42.3002894;-83.84048339999998
X-APPLE-STRUCTURED-LOCATION;VALUE=URI;X-ADDRESS=1095 N. Zeeb Rd\, Ann Arbor
 \, Michigan\, 48103\, West\, United States;X-APPLE-RADIUS=100;X-TITLE=Dayc
 roft School:geo:42.3002894,-83.84048339999998
END:VEVENT
BEGIN:VTIMEZONE
TZID:America/Detroit
X-LIC-LOCATION:America/Detroit
BEGIN:DAYLIGHT
DTSTART:20260308T030000
TZOFFSETFROM:-0500
TZOFFSETTO:-0400
TZNAME:EDT
END:DAYLIGHT
END:VTIMEZONE
END:VCALENDAR