BEGIN:VCALENDAR
VERSION:2.0
PRODID:-//wp-events-plugin.com//7.2.3.1//EN
TZID:America/Detroit
X-WR-TIMEZONE:America/Detroit
BEGIN:VEVENT
UID:50021@annarborwithkids.com
DTSTART;TZID=America/Detroit:20190714T133000
DTEND;TZID=America/Detroit:20190714T133000
DTSTAMP:20200729T031845Z
URL:https://annarborwithkids.com/events/summer-classic-hidden-figures/
SUMMARY:Summer Classic: Hidden Figures
DESCRIPTION:Join Michigan Theater for Hidden Figures\, part of their Summer
  Classic Film Series\n\n&nbsp\;
CATEGORIES:Arbor Annie's Highlights,Elementary,High Schoolers,Indoor
 Activities,Middle Schoolers,Movies,Parents
LOCATION:Michigan Theater\, 603 E. Liberty St\, Ann Arbor\, MI\, 48104\, Do
 wntown\, United States
GEO:42.279704;-83.742019
X-APPLE-STRUCTURED-LOCATION;VALUE=URI;X-ADDRESS=603 E. Liberty St\, Ann Arb
 or\, MI\, 48104\, Downtown\, United States;X-APPLE-RADIUS=100;X-TITLE=Mich
 igan Theater:geo:42.279704,-83.742019
END:VEVENT
BEGIN:VTIMEZONE
TZID:America/Detroit
X-LIC-LOCATION:America/Detroit
BEGIN:DAYLIGHT
DTSTART:20190310T030000
TZOFFSETFROM:-0500
TZOFFSETTO:-0400
TZNAME:EDT
END:DAYLIGHT
END:VTIMEZONE
END:VCALENDAR