BEGIN:VCALENDAR
VERSION:2.0
PRODID:-//wp-events-plugin.com//7.2.3.1//EN
TZID:America/Detroit
X-WR-TIMEZONE:America/Detroit
BEGIN:VEVENT
UID:93452@annarborwithkids.com
DTSTART;TZID=America/Detroit:20260617T174500
DTEND;TZID=America/Detroit:20260617T181500
DTSTAMP:20260401T211754Z
URL:https://annarborwithkids.com/events/summer-break-by-flip-fabrique-2026
 -06-17/
SUMMARY:Summer Break by FLIP Fabrique
DESCRIPTION:\nRemember your first summer camp? Campfires\, sticky marshmall
 ows\, late-night laughter\, and that pillow fight that ended in the infirm
 ary?\n\n\n\nFLIP Fabrique brings it all back with&nbsp\;Summer Break\, a h
 igh-energy circus experience bursting with nostalgia\, acrobatics\, and pl
 ayful surprises. Jump on the Vacation Bus as it rolls into Top of the Park
  for a joyful celebration of summer freedom\, friendship\, and adventure.\
 n\n\n\nA2SF continues their proud tradition of presenting dazzling interna
 tional spectacles and contemporary circus feats. The outdoor sensation at 
 Top of the Park is free for everyone. Come early\, bring a blanket\, and b
 e part of the magic. Run time is approximately 30 minutes.\n\n\n\nShow Sch
 edule:\n\n\n\n[events_list scope="2026-06-17\,2026-06-18" tag="Top of the 
 Park Spectacle"]🚌 #_{l F j\, Y} #_EVENTTIMES #_EVENTLINK[/events_list]\
 n\n\n\nCheck out their Video:\n\n\n\n\nhttps://youtu.be/9V1hTbZT7p0?si=cXQ
 7vAj8hU4nhrbx\n\n\n\n\n\n
CATEGORIES:Arbor Annie's Highlights,Elementary,Free,High Schoolers,Middle
 Schoolers,Music/Concerts,Outdoor,Parents,Preschoolers,Toddler,UM
 Parents,UM Students
LOCATION:Top of the Park\, 915 E. Washington St\, Ann Arbor\, Michigan\, 48
 109\, University of Michigan\, United States
GEO:42.2807892;-83.73815560000003
X-APPLE-STRUCTURED-LOCATION;VALUE=URI;X-ADDRESS=915 E. Washington St\, Ann 
 Arbor\, Michigan\, 48109\, University of Michigan\, United States;X-APPLE-
 RADIUS=100;X-TITLE=Top of the Park:geo:42.2807892,-83.73815560000003
END:VEVENT
BEGIN:VTIMEZONE
TZID:America/Detroit
X-LIC-LOCATION:America/Detroit
BEGIN:DAYLIGHT
DTSTART:20260308T030000
TZOFFSETFROM:-0500
TZOFFSETTO:-0400
TZNAME:EDT
END:DAYLIGHT
END:VTIMEZONE
END:VCALENDAR