BEGIN:VCALENDAR
VERSION:2.0
PRODID:-//wp-events-plugin.com//7.2.3.1//EN
TZID:America/Detroit
X-WR-TIMEZONE:America/Detroit
BEGIN:VEVENT
UID:92469@annarborwithkids.com
DTSTART;TZID=America/Detroit:20260213T173000
DTEND;TZID=America/Detroit:20260213T193000
DTSTAMP:20260129T223640Z
URL:https://annarborwithkids.com/events/stupid-cupid/
SUMMARY:Stupid Cupid
DESCRIPTION:\nCalling all teens! Join YDL for a chill after-hours event wit
 h a movie and cookie decorating! \n\n\n\n*Movie shown will be PG-13*\n\n\
 n\nFor ages 12-18.\n\n\n\n\n
CATEGORIES:Arbor Annie's Highlights,Food,Free,High Schoolers,Indoor
 Activities,Middle Schoolers,Movies,Valentine's Day
LOCATION:Ypsilanti District Library - Michigan Ave Branch\, 229 West Michig
 an Avenue\, Ypsilanti\, Michigan\, 48197\, Ypsilanti\, United States
GEO:42.240746;-83.61565
X-APPLE-STRUCTURED-LOCATION;VALUE=URI;X-ADDRESS=229 West Michigan Avenue\, 
 Ypsilanti\, Michigan\, 48197\, Ypsilanti\, United States;X-APPLE-RADIUS=10
 0;X-TITLE=Ypsilanti District Library - Michigan Ave Branch:geo:42.240746,-
 83.61565
END:VEVENT
BEGIN:VTIMEZONE
TZID:America/Detroit
X-LIC-LOCATION:America/Detroit
BEGIN:STANDARD
DTSTART:20251102T010000
TZOFFSETFROM:-0400
TZOFFSETTO:-0500
TZNAME:EST
END:STANDARD
END:VTIMEZONE
END:VCALENDAR