BEGIN:VCALENDAR
VERSION:2.0
PRODID:-//wp-events-plugin.com//7.2.3.1//EN
TZID:America/Detroit
X-WR-TIMEZONE:America/Detroit
BEGIN:VEVENT
UID:66022@annarborwithkids.com
DTSTART;TZID=America/Detroit:20240120T140000
DTEND;TZID=America/Detroit:20240120T150000
DTSTAMP:20240112T044210Z
URL:https://annarborwithkids.com/events/storytelling-with-sandy/
SUMMARY:Storytelling with Sandy
DESCRIPTION:\nSandy Ryder\, a co-founder of Wild Swan Theater\, will be tel
 ling stories at the Ypsilanti Whittaker Branch.\n\n\n\nJoin them for an ho
 ur of stories\, laughs\, and surprises. Kids and adults alike will enjoy h
 er unique and engaging style of sharing stories.\n\n\n
CATEGORIES:Arbor Annie's Highlights,Elementary,Free,Indoor
 Activities,Middle Schoolers,Preschoolers,Storytime,Toddler
LOCATION:Ypsilanti District Library - Whittaker Rd\, 5577 Whittaker Rd\, Yp
 silanti\, Michigan\, 48197\, Ypsilanti\, United States
GEO:42.208097;-83.61557
X-APPLE-STRUCTURED-LOCATION;VALUE=URI;X-ADDRESS=5577 Whittaker Rd\, Ypsilan
 ti\, Michigan\, 48197\, Ypsilanti\, United States;X-APPLE-RADIUS=100;X-TIT
 LE=Ypsilanti District Library - Whittaker Rd:geo:42.208097,-83.61557
END:VEVENT
BEGIN:VTIMEZONE
TZID:America/Detroit
X-LIC-LOCATION:America/Detroit
BEGIN:STANDARD
DTSTART:20231105T010000
TZOFFSETFROM:-0400
TZOFFSETTO:-0500
TZNAME:EST
END:STANDARD
END:VTIMEZONE
END:VCALENDAR