BEGIN:VCALENDAR
VERSION:2.0
PRODID:-//wp-events-plugin.com//7.2.3.1//EN
TZID:America/Detroit
X-WR-TIMEZONE:America/Detroit
BEGIN:VEVENT
UID:90202@annarborwithkids.com
DTSTART;TZID=America/Detroit:20251206T100000
DTEND;TZID=America/Detroit:20251206T110000
DTSTAMP:20251024T010257Z
URL:https://annarborwithkids.com/events/story-time-with-mrs-claus/
SUMMARY:Story Time with Mrs. Claus
DESCRIPTION:\nDuring Christmas in Ida\, join Monroe County Library - Ida Br
 anch for an enchanting hour filled with heartwarming tales straight from t
 he North Pole\, courtesy of none other than the delightful Mrs. Claus hers
 elf! Gather ’round as she delights kids with timeless Christmas stories\
 , transporting you to a world of festive magic and wonder.\n\n\n\n\n\n\n\n
 \n
CATEGORIES:Advance Registration,Christmas,Elementary,Free,Indoor
 Activities,Parents,Preschoolers,Registration
 Required,Santa,Storytime,Toddler
LOCATION:Ida Community Center\, 3016 Lewis Ave\, Ida\, Michigan\, 48140\, U
 nited States
GEO:41.908128;-83.57373
X-APPLE-STRUCTURED-LOCATION;VALUE=URI;X-ADDRESS=3016 Lewis Ave\, Ida\, Mich
 igan\, 48140\, United States;X-APPLE-RADIUS=100;X-TITLE=Ida Community Cent
 er:geo:41.908128,-83.57373
END:VEVENT
BEGIN:VTIMEZONE
TZID:America/Detroit
X-LIC-LOCATION:America/Detroit
BEGIN:STANDARD
DTSTART:20251102T010000
TZOFFSETFROM:-0400
TZOFFSETTO:-0500
TZNAME:EST
END:STANDARD
END:VTIMEZONE
END:VCALENDAR