BEGIN:VCALENDAR
VERSION:2.0
PRODID:-//wp-events-plugin.com//7.2.3.1//EN
TZID:America/Detroit
X-WR-TIMEZONE:America/Detroit
BEGIN:VEVENT
UID:79908@annarborwithkids.com
DTSTART;TZID=America/Detroit:20260324T180000
DTEND;TZID=America/Detroit:20260324T190000
DTSTAMP:20260219T183829Z
URL:https://annarborwithkids.com/events/stitched-postcards/
SUMMARY:Stitched Postcards
DESCRIPTION:\nUse simple embroidery techniques to make stitched postcards. 
 You'll be amazed to see how a vintage postcard can be transformed with jus
 t a row of running stitches or a collection of french knots.\n\n\n\nFor te
 ens &amp\; adults\n\n\n\n\n
CATEGORIES:Arbor Annie's Highlights,Fiber Arts,Free,High Schoolers,Indoor
 Activities,Middle Schoolers,Parents
LOCATION:Westgate Branch of AADL\, 2503 Jackson Ave\, Ann Arbor\, Michigan\
 , 48103\, West\, United States
GEO:42.2786067;-83.78273059999998
X-APPLE-STRUCTURED-LOCATION;VALUE=URI;X-ADDRESS=2503 Jackson Ave\, Ann Arbo
 r\, Michigan\, 48103\, West\, United States;X-APPLE-RADIUS=100;X-TITLE=Wes
 tgate Branch of AADL:geo:42.2786067,-83.78273059999998
END:VEVENT
BEGIN:VTIMEZONE
TZID:America/Detroit
X-LIC-LOCATION:America/Detroit
BEGIN:DAYLIGHT
DTSTART:20260308T030000
TZOFFSETFROM:-0500
TZOFFSETTO:-0400
TZNAME:EDT
END:DAYLIGHT
END:VTIMEZONE
END:VCALENDAR