BEGIN:VCALENDAR
VERSION:2.0
PRODID:-//wp-events-plugin.com//7.2.3.1//EN
TZID:America/Detroit
X-WR-TIMEZONE:America/Detroit
BEGIN:VEVENT
UID:76301@annarborwithkids.com
DTSTART;TZID=America/Detroit:20240120T140000
DTEND;TZID=America/Detroit:20240120T150000
DTSTAMP:20240111T210808Z
URL:https://annarborwithkids.com/events/step-it-up-the-french-dukes-a-cele
 bration-performance-and-reading/
SUMMARY:Step It Up! The French Dukes: A Celebration\, Performance\, and Rea
 ding
DESCRIPTION:\nJoin AADL for a celebration of the French Dukes! \n\n\n\nAuth
 or Debbie Taylor will kick things off with a reading of her picture book\,
  Step It Up! The French Dukes! \n\n\n\nSet in 1960's Ann Arbor\, Kenny’s
  story is inspired by the real-life French Dukes Precision Drill Team. Mem
 bers of the original team will talk with Debbie about their experience\, a
 nd then do a short performance. They will also share what's happening with
  young community members today! \n\n\n\nBooks will be for sale and Debbie 
 Taylor will be available to sign them.\n\n\n
CATEGORIES:Arbor Annie's Highlights,Author
 Event,BIPOC,Elementary,Free,High Schoolers,History,Indoor
 Activities,Middle Schoolers,Parents
LOCATION:Downtown Branch of AADL\, 343 South Fifth Avenue\, Ann Arbor\, Mic
 higan\, 48104\, Downtown\, United States
GEO:42.278198;-83.745971
X-APPLE-STRUCTURED-LOCATION;VALUE=URI;X-ADDRESS=343 South Fifth Avenue\, An
 n Arbor\, Michigan\, 48104\, Downtown\, United States;X-APPLE-RADIUS=100;X
 -TITLE=Downtown Branch of AADL:geo:42.278198,-83.745971
END:VEVENT
BEGIN:VTIMEZONE
TZID:America/Detroit
X-LIC-LOCATION:America/Detroit
BEGIN:STANDARD
DTSTART:20231105T010000
TZOFFSETFROM:-0400
TZOFFSETTO:-0500
TZNAME:EST
END:STANDARD
END:VTIMEZONE
END:VCALENDAR